BEGIN:VCALENDAR
VERSION:2.0
PRODID:-//WSC - ECPv6.15.20//NONSGML v1.0//EN
CALSCALE:GREGORIAN
METHOD:PUBLISH
X-ORIGINAL-URL:https://wsc.pl
X-WR-CALDESC:Wydarzenia dla WSC
REFRESH-INTERVAL;VALUE=DURATION:PT1H
X-Robots-Tag:noindex
X-PUBLISHED-TTL:PT1H
BEGIN:VTIMEZONE
TZID:Europe/Warsaw
BEGIN:DAYLIGHT
TZOFFSETFROM:+0100
TZOFFSETTO:+0200
TZNAME:CEST
DTSTART:20250330T010000
END:DAYLIGHT
BEGIN:STANDARD
TZOFFSETFROM:+0200
TZOFFSETTO:+0100
TZNAME:CET
DTSTART:20251026T010000
END:STANDARD
BEGIN:DAYLIGHT
TZOFFSETFROM:+0100
TZOFFSETTO:+0200
TZNAME:CEST
DTSTART:20260329T010000
END:DAYLIGHT
BEGIN:STANDARD
TZOFFSETFROM:+0200
TZOFFSETTO:+0100
TZNAME:CET
DTSTART:20261025T010000
END:STANDARD
BEGIN:DAYLIGHT
TZOFFSETFROM:+0100
TZOFFSETTO:+0200
TZNAME:CEST
DTSTART:20270328T010000
END:DAYLIGHT
BEGIN:STANDARD
TZOFFSETFROM:+0200
TZOFFSETTO:+0100
TZNAME:CET
DTSTART:20271031T010000
END:STANDARD
END:VTIMEZONE
BEGIN:VEVENT
DTSTART;TZID=Europe/Warsaw:20260506T110000
DTEND;TZID=Europe/Warsaw:20260506T123000
DTSTAMP:20260425T180218
CREATED:20260423T072522Z
LAST-MODIFIED:20260423T072728Z
UID:10000402-1778065200-1778070600@wsc.pl
SUMMARY:Narzędzia Archiclubu część 13-ta.  Moduł płytek - autorskie narzędzia Archiclubu do modelowania.
DESCRIPTION:W trakcie warsztatów wykonamy ćwiczenia praktyczne w wersji Archicad 29 z najnowszą biblioteką Archiclubową.  \nOd podstaw zapoznamy się z takimi narzędziami jak : \n\nModuł płytek jako Akcesoria ściany/dachu/stropu oraz\nModuł płytek jako Obiekt.\n\nPrześledzimy również najnowsze zmiany w tym narzędziu. \nZ pomocą tych zaawansowanych narzędzi wykonamy między innymi parametryczne pokrycie płytkami lub panelami 3D wskazanych powierzchni. Przygotujemy pokrycie dachu i ściany z użyciem blachy na rąbek oraz wykonamy własny model okładziny. Wykonamy pokrycie ściany we wnętrzu z użyciem własnych paneli 3D.
URL:https://wsc.pl/wydarzenia/narzedzia-archiclubu-czesc-13-ta-modul-plytek-autorskie-narzedzia-archiclubu-do-modelowania/
CATEGORIES:Archicad
ATTACH;FMTTYPE=image/jpeg:https://wsc.pl/wp-content/uploads/2026/04/06.05.2026-ARCHICLUB-biblioteki-RS_PD.jpg
ORGANIZER;CN="WSC":MAILTO:wsc@wsc.pl
END:VEVENT
END:VCALENDAR