BEGIN:VCALENDAR
VERSION:2.0
PRODID:-//WSC - ECPv6.15.20//NONSGML v1.0//EN
CALSCALE:GREGORIAN
METHOD:PUBLISH
X-ORIGINAL-URL:https://wsc.pl
X-WR-CALDESC:Wydarzenia dla WSC
REFRESH-INTERVAL;VALUE=DURATION:PT1H
X-Robots-Tag:noindex
X-PUBLISHED-TTL:PT1H
BEGIN:VTIMEZONE
TZID:Europe/Warsaw
BEGIN:DAYLIGHT
TZOFFSETFROM:+0100
TZOFFSETTO:+0200
TZNAME:CEST
DTSTART:20250330T010000
END:DAYLIGHT
BEGIN:STANDARD
TZOFFSETFROM:+0200
TZOFFSETTO:+0100
TZNAME:CET
DTSTART:20251026T010000
END:STANDARD
BEGIN:DAYLIGHT
TZOFFSETFROM:+0100
TZOFFSETTO:+0200
TZNAME:CEST
DTSTART:20260329T010000
END:DAYLIGHT
BEGIN:STANDARD
TZOFFSETFROM:+0200
TZOFFSETTO:+0100
TZNAME:CET
DTSTART:20261025T010000
END:STANDARD
BEGIN:DAYLIGHT
TZOFFSETFROM:+0100
TZOFFSETTO:+0200
TZNAME:CEST
DTSTART:20270328T010000
END:DAYLIGHT
BEGIN:STANDARD
TZOFFSETFROM:+0200
TZOFFSETTO:+0100
TZNAME:CET
DTSTART:20271031T010000
END:STANDARD
END:VTIMEZONE
BEGIN:VEVENT
DTSTART;TZID=Europe/Warsaw:20260526T150000
DTEND;TZID=Europe/Warsaw:20260526T160000
DTSTAMP:20260425T180341
CREATED:20260423T075023Z
LAST-MODIFIED:20260423T075023Z
UID:10000407-1779807600-1779811200@wsc.pl
SUMMARY:MEP Designer – możliwości projektowania instalacji w środowisku Archicada
DESCRIPTION:W trakcie webinarium przedstawimy ogólnie możliwości projektowania instalacji w MEP Designer.\nSpotkanie w formie omówienia bez ćwiczeń – również dla osób nieznających Archicada i chcących w przyszłości zastosować go nie tylko w projektowaniu architektonicznym. \nDowiedz się więcej o programie MEP Designer TUTAJ
URL:https://wsc.pl/wydarzenia/mep-designer-mozliwosci-projektowania-instalacji-w-srodowisku-archicada/
ATTACH;FMTTYPE=image/jpeg:https://wsc.pl/wp-content/uploads/2026/04/26.05.2026-MEP-PP.jpg
ORGANIZER;CN="WSC":MAILTO:wsc@wsc.pl
END:VEVENT
END:VCALENDAR