BEGIN:VCALENDAR
VERSION:2.0
PRODID:-//WSC - ECPv6.15.20//NONSGML v1.0//EN
CALSCALE:GREGORIAN
METHOD:PUBLISH
X-ORIGINAL-URL:https://wsc.pl
X-WR-CALDESC:Wydarzenia dla WSC
REFRESH-INTERVAL;VALUE=DURATION:PT1H
X-Robots-Tag:noindex
X-PUBLISHED-TTL:PT1H
BEGIN:VTIMEZONE
TZID:Europe/Warsaw
BEGIN:DAYLIGHT
TZOFFSETFROM:+0100
TZOFFSETTO:+0200
TZNAME:CEST
DTSTART:20250330T010000
END:DAYLIGHT
BEGIN:STANDARD
TZOFFSETFROM:+0200
TZOFFSETTO:+0100
TZNAME:CET
DTSTART:20251026T010000
END:STANDARD
BEGIN:DAYLIGHT
TZOFFSETFROM:+0100
TZOFFSETTO:+0200
TZNAME:CEST
DTSTART:20260329T010000
END:DAYLIGHT
BEGIN:STANDARD
TZOFFSETFROM:+0200
TZOFFSETTO:+0100
TZNAME:CET
DTSTART:20261025T010000
END:STANDARD
BEGIN:DAYLIGHT
TZOFFSETFROM:+0100
TZOFFSETTO:+0200
TZNAME:CEST
DTSTART:20270328T010000
END:DAYLIGHT
BEGIN:STANDARD
TZOFFSETFROM:+0200
TZOFFSETTO:+0100
TZNAME:CET
DTSTART:20271031T010000
END:STANDARD
END:VTIMEZONE
BEGIN:VEVENT
DTSTART;TZID=Europe/Warsaw:20260528T110000
DTEND;TZID=Europe/Warsaw:20260528T120000
DTSTAMP:20260425T175724
CREATED:20260423T075500Z
LAST-MODIFIED:20260423T080037Z
UID:10000408-1779966000-1779969600@wsc.pl
SUMMARY:Czy AI zastąpi ręczną pracę w Bluebeam? Sprawdź Bluebeam Max
DESCRIPTION:Czy sztuczna inteligencja naprawdę może zastąpić ręczną pracę w Bluebeam Revu?\nPodczas webinaru pokażemy\, jak Bluebeam Max wykorzystuje AI do automatyzacji analizy dokumentacji\, przyspieszenia przeglądów i ograniczenia błędów. Zobacz praktyczne przykłady zastosowań i dowiedz się\, które zadania możesz już dziś oddać technologii\, a gdzie wciąż kluczowa pozostaje rola człowieka.
URL:https://wsc.pl/wydarzenia/czy-ai-zastapi-reczna-prace-w-bluebeam-sprawdz-bluebeam-max/
CATEGORIES:Bluebeam Revu
ATTACH;FMTTYPE=image/jpeg:https://wsc.pl/wp-content/uploads/2026/04/28.05.2025-WSC-Bluebeam-PG.jpg
ORGANIZER;CN="WSC":MAILTO:wsc@wsc.pl
END:VEVENT
BEGIN:VEVENT
DTSTART;TZID=Europe/Warsaw:20260627T110000
DTEND;TZID=Europe/Warsaw:20260627T113000
DTSTAMP:20260425T175724
CREATED:20260423T074507Z
LAST-MODIFIED:20260423T074507Z
UID:10000406-1782558000-1782559800@wsc.pl
SUMMARY:Program Konwersji WSC - ostatni etap
DESCRIPTION:Przed nami istotne zmiany w zasadach funkcjonowania Programu Konwersji. Jeśli korzystasz z Archiclubu\, to dobry moment\, aby przyjrzeć się dostępnym opcjom i podjąć świadomą decyzję na przyszłość. \nOd II kwartału 2026 roku do Programu Konwersji będzie można przystąpić wyłącznie w rocznicę zawarcia umowy Archiclubu. Warto też pamiętać\, że zmieniają się zasady samego programu\, a dotychczasowe umowy Archiclubowe będą stopniowo wypowiadane. \nWarto przeanalizować oferowane warunki Programu Konwersji i zabezpieczyć swoje narzędzia pracy. \nW WSC\, w ramach jednej opłaty otrzymujesz nie tylko dostęp do najnowszych wersji Archicada\, ale także: \n\npriorytetowe wsparcie techniczne ekspertów WSC\,\ndostęp do stale rozwijanej bazy narzędzi Archiclub i materiałów szkoleniowych\,\nautorskie szablony i środowiska pracy\, które przyspieszają i usprawniają codzienną pracę.\n\nZapraszamy na webinar oraz sesję Q&A\, podczas których pokażemy\, co dokładnie zmienia się w licencjonowaniu Archicada oraz jakie rozwiązania WSC oferuje swoim klientom w ramach Programu Konwersji. \nDowiesz się m.in.: \n\njak najlepiej wykorzystać Program Konwersji\,\njakie decyzje podjąć w zakresie aktualizacji\, licencji wieczystych i subskrypcji\,\njak zoptymalizować koszty w obliczu nadchodzących zmian.\n\nTo praktyczna wiedza\, która pomoże Ci uniknąć utraty korzystnych warunków i zapewni ciągłość pracy na aktualnych wersjach oprogramowania.
URL:https://wsc.pl/wydarzenia/program-konwersji-wsc-ostatni-etap-2/
CATEGORIES:Archicad
ATTACH;FMTTYPE=image/jpeg:https://wsc.pl/wp-content/uploads/2026/04/27-maja-2026-program-konwersji.jpg
ORGANIZER;CN="WSC":MAILTO:wsc@wsc.pl
END:VEVENT
END:VCALENDAR