BEGIN:VCALENDAR
VERSION:2.0
PRODID:-//WSC - ECPv6.15.20//NONSGML v1.0//EN
CALSCALE:GREGORIAN
METHOD:PUBLISH
X-ORIGINAL-URL:https://wsc.pl
X-WR-CALDESC:Wydarzenia dla WSC
REFRESH-INTERVAL;VALUE=DURATION:PT1H
X-Robots-Tag:noindex
X-PUBLISHED-TTL:PT1H
BEGIN:VTIMEZONE
TZID:Europe/Warsaw
BEGIN:DAYLIGHT
TZOFFSETFROM:+0100
TZOFFSETTO:+0200
TZNAME:CEST
DTSTART:20240331T010000
END:DAYLIGHT
BEGIN:STANDARD
TZOFFSETFROM:+0200
TZOFFSETTO:+0100
TZNAME:CET
DTSTART:20241027T010000
END:STANDARD
BEGIN:DAYLIGHT
TZOFFSETFROM:+0100
TZOFFSETTO:+0200
TZNAME:CEST
DTSTART:20250330T010000
END:DAYLIGHT
BEGIN:STANDARD
TZOFFSETFROM:+0200
TZOFFSETTO:+0100
TZNAME:CET
DTSTART:20251026T010000
END:STANDARD
BEGIN:DAYLIGHT
TZOFFSETFROM:+0100
TZOFFSETTO:+0200
TZNAME:CEST
DTSTART:20260329T010000
END:DAYLIGHT
BEGIN:STANDARD
TZOFFSETFROM:+0200
TZOFFSETTO:+0100
TZNAME:CET
DTSTART:20261025T010000
END:STANDARD
END:VTIMEZONE
BEGIN:VEVENT
DTSTART;TZID=Europe/Warsaw:20250417T150000
DTEND;TZID=Europe/Warsaw:20250417T160000
DTSTAMP:20260425T163538
CREATED:20250318T140212Z
LAST-MODIFIED:20250410T104619Z
UID:10000250-1744902000-1744905600@wsc.pl
SUMMARY:Część 3: Autorskie narzędzia ARCHICLUBu do modelowania
DESCRIPTION:W trakcie Warsztatów dokonamy przeglądu narzędzia Snake oraz Bryła obrotowa.\nUwaga: szkolenie przeniesione z dnia 10.04.2025. link do rejesteracji pozostaje ten sam.\nZapoznamy się z wszystkimi ważnymi ustawieniami tych obiektów\, które powodują że są niezwykle wydajne i znakomicie uzupełniają standardowe możliwości Archicada.\nW trakcie warsztatów wykonamy m.in.: \n\nobiekt sztukaterii  dowolnym przekroju\,\npochylnię dla niepełnosprawnych z właściwymi warstwami przekrojowymi (uwzględniającymi zarówno konstrukcję jak wykończenie tynkiem)\,\ndrogę ewakuacyjną w modelu 3D z odpowiednim tekstem i sprawdzeniem poprawności obliczeń.\numywalkę stojącą na podstawie narysowanego przekroju.\nlukarnę baryłkową.Warsztaty zostaną przeprowadzone z wykorzystaniem Archicada 28 POL wraz z najnowszą biblioteką Archiclubu na dostarczonym  pliku przykładowym.
URL:https://wsc.pl/wydarzenia/czesc-3-autorskie-narzedzia-archiclubu-do-modelowania/
CATEGORIES:Archicad
ATTACH;FMTTYPE=image/png:https://wsc.pl/wp-content/uploads/2025/03/10.04.2025-WSC-ARCHICLUB-biblioteki-modelowanie-RS.png
ORGANIZER;CN="WSC":MAILTO:wsc@wsc.pl
END:VEVENT
BEGIN:VEVENT
DTSTART;TZID=Europe/Warsaw:20250415T110000
DTEND;TZID=Europe/Warsaw:20250415T120000
DTSTAMP:20260425T163538
CREATED:20250307T101400Z
LAST-MODIFIED:20250310T090749Z
UID:10000025-1744714800-1744718400@wsc.pl
SUMMARY:Archicad - licencje wieczyste i subskrypcje – zobacz do kiedy masz wybór - ważne spotkanie dla posiadaczy licencji wieczystych Archicada
DESCRIPTION:Ważne spotkanie dla posiadaczy licencji wieczystych Archicada\nGraphisoft w ramach postępującej zmiany w kierunku zrównoważonego modelu dostarczania oprogramowania w formie subskrypcji zaktualizował warunki sprzedaży Archicada na rok 2025. Nasz dział sprzedaży wytłumaczy i odpowie na pytania dotyczące formy zakupu Archicada w 2025 roku.\nTematy spotkania \n1. Ostatni rok na zakup licencji wieczystych dla Klientów posiadających już licencje wieczyste Rok 2025 jest ostatnim\, w którym posiadacze licencji wieczystych programu Archicad mogą dokupić kolejne licencje wieczyste i zaktualizować swoje stanowiska Archicada oraz Archicada Start Edition do najnowszych dostępnych wersji wieczystych programu. \n2. Program Konwersji WSC w roku 2025 W ramach Programu Konwersji 2025 można przejść na model subskrypcyjny Archicada na bardzo preferencyjnych warunkach finansowych – roczna subskrypcja jest dostępna w kwocie opłat za ARCHICLUB; wszystkie korzyści ARCHICLUBu wliczone w cenę subskrypcji. \n3. Subskrypcja Archicada od 2026 roku. Od początku 2026 roku zakup kolejnych licencji będzie możliwy wyłącznie w subskrypcji. \n4. Sesja pytań i odpowiedzi Do kto i do kiedy możne kupić licencję wieczystą Archicada? Jak będzie wyglądał proces aktualizacji posiadanych licencji wieczystych Archicada po 2025 roku? Jaka jest i będzie oferta Archicada w subskrypcji? Co to jest Program Konwersji WSC? \n  \n 
URL:https://wsc.pl/wydarzenia/archicad-licencje-wieczyste-i-subskrypcje-zobacz-do-kiedy-masz-wybor-wazne-spotkanie-dla-posiadaczy-licencji-wieczystych-archicada/
CATEGORIES:Archicad
ATTACH;FMTTYPE=image/jpeg:https://wsc.pl/wp-content/uploads/2025/03/Archicad-zakup-Archicada-2025.jpg
END:VEVENT
BEGIN:VEVENT
DTSTART;TZID=Europe/Warsaw:20250404T090000
DTEND;TZID=Europe/Warsaw:20250404T100000
DTSTAMP:20260425T163538
CREATED:20250318T135512Z
LAST-MODIFIED:20250318T141237Z
UID:10000249-1743757200-1743760800@wsc.pl
SUMMARY:Moduły Hotlink – zasada działania i przykłady użycia
DESCRIPTION:Czy powtarzające się części projektu mogą być wielokrotnie użyte i w łatwy sposób aktualizowane?\nZapraszamy na webinarium na temat modułów Hotlink w Archicadzie.\nW trakcie spotkania przećwiczymy ogólne zasady działania\, ustawienia i wybrane przykłady zastosowania.
URL:https://wsc.pl/wydarzenia/moduly-hotlink-zasada-dzialania-i-przyklady-uzycia/
CATEGORIES:Archicad
ATTACH;FMTTYPE=image/png:https://wsc.pl/wp-content/uploads/2025/03/4.04.2025-Moduly-hotlink-PP.png
ORGANIZER;CN="WSC":MAILTO:wsc@wsc.pl
END:VEVENT
BEGIN:VEVENT
DTSTART;TZID=Europe/Warsaw:20250403T090000
DTEND;TZID=Europe/Warsaw:20250403T130000
DTSTAMP:20260425T163538
CREATED:20250226T102054Z
LAST-MODIFIED:20250226T102054Z
UID:10000017-1743670800-1743685200@wsc.pl
SUMMARY:Eksport IFC w Archicadzie
DESCRIPTION:Eksport IFC w Archicadzie to szkolenie dla zaawansowanych użytkowników Archicada. Uczestnik szkolenia pozna i przećwiczy najważniejsze zagadnienia związane z przygotowaniem modelu IFC w Archicadzie.\nTematyka szkolenia obejmuje zagadnienia prawidłowego przygotowania modelu\, ustawień eksportu do IFC\, mapowania parametrów oraz podstawowej weryfikacji modeli w przeglądarce IFC.\nSzkolenie przygotowuje do współpracy wielobranżowej przy wykorzystaniu modeli IFC. To szkolenie jest również niezbędne jeżeli wynikiem naszej pracy ma być przekazanie projektu w formacie IFC zgodnego z wymaganiami informacyjnymi. \nSzkolenie prowadzone jest z użyciem programów:\nArchicad 27 / 28 (wersja polska)\, BIMcollab Zoom. \nInformacje organizacyjne\n\nTermin: 3 kwietnia 2025 | godzina 9:00-11:00 (1 dzień / 4 godziny)\nSzkolenie on-line\nProwadzący: arch. Paweł Przybyłowicz\nSzczegóły i rejestracja: https://www.bimbase.pl/standard-ifc-w-archicadzie/\nCena promocyjna– 400 PLN netto (jcena regularna 900 zł)\nDla członków ARCHICLUBu – 25% rabatu (od ceny promocyjnej)
URL:https://wsc.pl/wydarzenia/eksport-ifc-w-archicadzie/
CATEGORIES:Archicad,Bimcollab
ATTACH;FMTTYPE=image/png:https://wsc.pl/wp-content/uploads/2025/02/bimbase-ifc-archicad.png
ORGANIZER;CN="BIMbase":MAILTO:szkolenia@bimbase.pl
END:VEVENT
BEGIN:VEVENT
DTSTART;TZID=Europe/Warsaw:20250325T100000
DTEND;TZID=Europe/Warsaw:20250325T140000
DTSTAMP:20260425T163538
CREATED:20250226T094638Z
LAST-MODIFIED:20250310T151914Z
UID:10000245-1742896800-1742911200@wsc.pl
SUMMARY:Archicad - szkolenie podstawowe – 16 godzinne\, on-line
DESCRIPTION:Archicad – szkolenie podstawowe\, 16-godzinne (4 dni\, po 4 godziny)\, on-line\nProgram\nCzęść 1 – Środowisko robocze Archicada • Środowisko pracy Archicada (m.in. palety\, warstwy\, płaszczyzna robocza) • Interakcja z programem – podstawowa edycja obiektów 2D i 3D • Struktura budynku i zasady modelowania • Materiały budowlane i struktury warstwowe \nCzęść 2 – Narzędzia parametryczne • Podstawowe obiekty architektoniczne (ściana\, strop\, okno\, drzwi\, dach\, schody) • Relacje między elementami • Ułatwienia w modelowaniu \nCzęść 3 – Automatyczne zestawienia • Narzędzie strefa • Kryteria zestawień • Automatyczne zestawienie stref (filtracja stref\, sumowanie wartości\, zliczanie ilości) \nCzęść 4 – Dokumentacja • Narzędzia dokumentacji (przekroje\, elewacje) • Wymiarowanie • Widoki – tworzenie\, klonowanie • Szablony i arkusze – automatyczna publikacja \nInformacje organizacyjne\n\nTerminy: 17\, 18\,24\, 25 marca 2024\nMiejsce: szkolenie on-line\, na platformie ZOOM\nCena szkolenia: 2500 zł netto (+23% VAT) \nCena członków Archiclub-u (po udzieleniu 25% rabatu): 1875 zł (+23% VAT) (prosimy przy rejestracji podać numer klucza Archicada\, w celu weryfikacji członkostwa w ARCHICLUBie)\nDla studentów – rabat 50% (prosimy o przesłanie skanu legitymacji studenckiej na maila: wsc@wsc.pl z informacją o zapisie na szkolenie)\nSzkolenie płatne z góry. Jeśli potrzebują Państwo fakturę pro-forma za szkolenie prosimy o taką informację na maila: marketing@wsc.pl\nOpłata za szkolenie przelewem na numer konta: 24 1090 1014 0000 0001 0375 4193 W tytule przelewu proszę podać nazwę szkolenia: “Archicad – szkolenie podstawowe 16h – marzec 2025”\nPo otrzymaniu przelewu\, na podany przy rejestracji email prześlemy link do szkolenia oraz fakturę.\nSzkolenie przeprowadzone zostanie z wykorzystaniem Archicada 28.\nProwadzący: arch. Mikołaj Wójcik
URL:https://wsc.pl/wydarzenia/archicad-szkolenie-podstawowe-16-godzinne-on-line/2025-03-25/
CATEGORIES:Archicad
ATTACH;FMTTYPE=image/png:https://wsc.pl/wp-content/uploads/2025/02/171824-i-25.03.2025-WSC-ARCHICAD-szkolenie-podstawowe-MW.png
END:VEVENT
BEGIN:VEVENT
DTSTART;TZID=Europe/Warsaw:20250321T090000
DTEND;TZID=Europe/Warsaw:20250321T130000
DTSTAMP:20260425T163538
CREATED:20250226T102809Z
LAST-MODIFIED:20250514T135207Z
UID:10000018-1742547600-1742562000@wsc.pl
SUMMARY:Archicad BIM Manager – narzędzia i metody
DESCRIPTION:Archicad BIM to szkolenie dla zaawansowanych użytkowników Archicada chcących w pełni wykorzystać możliwości programu w procesie projektowania w technologii BIM.\nCelem szkolenia jest zapoznanie uczestników z kluczowymi zagadnieniami BIM związanymi z modelowaniem\, zarządzaniem informacją i koordynacją międzybranżową w programie Archicad.\nPo szkoleniu uczestnik będzie potrafił skutecznie zarzadzać modelem informacyjnym projektu w programie Archicad\, wykorzystać standard IFC do współpracy i koordynacji międzybranżowej oraz zapewnić wysoką jakość modeli i zgodność z wymaganiami. \nSzkolenie prowadzone jest z użyciem polskiej wersji Archicada 27 / 28. \nInformacje organizacyjne\n\nSzkolenie prowadzone jest z użyciem polskiej wersji Archicada.\nTermin: 21\, 24\, 27\, 28 marca 2025 | godzina 9:00-13:00 (4 dni po 4 godziny)\nSzkolenie on-line\nProwadzący: arch. Paweł Przybyłowicz\nSzczegóły i rejestracja: https://www.bimbase.pl/archicad-bim-manager/\nKoszt – 3500 PLN netto +23% VAT\n(przy zapisie\, prosimy o przesłanie informacji\, są Państwo członkami Archiclubu – z tytułu członkostwa przysługuje Państwu 25% rabatu)
URL:https://wsc.pl/wydarzenia/archicad-bim-manager-narzedzia-i-metody/
CATEGORIES:Archicad,Bimcollab,Solibri
ATTACH;FMTTYPE=image/png:https://wsc.pl/wp-content/uploads/2025/02/bimbase-archicad-bim-manager.png
END:VEVENT
BEGIN:VEVENT
DTSTART;TZID=Europe/Warsaw:20250320T090000
DTEND;TZID=Europe/Warsaw:20250320T094500
DTSTAMP:20260425T163538
CREATED:20250226T100242Z
LAST-MODIFIED:20250226T100340Z
UID:10000015-1742461200-1742463900@wsc.pl
SUMMARY:Archicad - wymiary\, etykiety i adnotacje – narzędzia opisywania projektu.
DESCRIPTION:W tracie webinarium przećwiczymy narzędzia wspomagające przygotowanie dokumentacji 2D w zakresie opisywania rysunków.
URL:https://wsc.pl/wydarzenia/archicad-wymiary-etykiety-i-adnotacje-narzedzia-opisywania-projektu/
CATEGORIES:Archicad
ATTACH;FMTTYPE=image/png:https://wsc.pl/wp-content/uploads/2025/02/20.03.2025-WSC-ARCHICAD-wymiary-etykiety-i-adnotacje-PP-3.png
END:VEVENT
BEGIN:VEVENT
DTSTART;TZID=Europe/Warsaw:20250318T150000
DTEND;TZID=Europe/Warsaw:20250318T160000
DTSTAMP:20260425T163538
CREATED:20250226T095328Z
LAST-MODIFIED:20250226T095447Z
UID:10000014-1742310000-1742313600@wsc.pl
SUMMARY:Archicad i Twinmotion w projektowaniu wnętrz
DESCRIPTION:Zapraszamy na godzinny webinar „Jak efektywnie projektować wnętrza z wykorzystaniem Archicada i Twinmotion”\, podczas którego poznasz kluczowe techniki pracy w tych dwóch narzędziach.\nDowiesz się\, jak sprawnie modelować wnętrza w Archicadzie oraz jak wykorzystać Twinmotion do tworzenia realistycznych wizualizacji. Pokażemy najlepsze praktyki\, które pozwolą Ci przyspieszyć proces projektowy i podnieść jakość prezentacji. Webinar jest skierowany do architektów\, projektantów wnętrz oraz wszystkich\, którzy chcą usprawnić swój workflow i tworzyć jeszcze lepsze projekty. Nie przegap okazji\, by poszerzyć swoje umiejętności!
URL:https://wsc.pl/wydarzenia/archicad-i-twinmotion-w-projektowaniu-wnetrz/
CATEGORIES:Archicad,Twinmotion
ATTACH;FMTTYPE=image/png:https://wsc.pl/wp-content/uploads/2025/02/18.03.2025-WSC-Twinmotion-KZabiello-3.png
END:VEVENT
BEGIN:VEVENT
DTSTART;TZID=Europe/Warsaw:20250313T160000
DTEND;TZID=Europe/Warsaw:20250313T170000
DTSTAMP:20260425T163538
CREATED:20250225T190630Z
LAST-MODIFIED:20250225T220302Z
UID:10000010-1741881600-1741885200@wsc.pl
SUMMARY:Biblioteka Archiclubu - Część 2: Odkryj rozbudowane możliwości dodatkowych etykiet Archiclub!
DESCRIPTION:W trakcie warsztatów wykonamy ćwiczenia praktyczne w wersji Archicad 28 z narzędziem Etykieta z najnowszej biblioteki Archiclubowu 2025.\n\n\n\nOd podstaw zapoznamy się z takimi narzędziami jak : \n\n\nEtykieta Warstw Linie\,\nEtykieta kąta dachu\,\nEtykieta opisu schodów\,\nEtykieta struktury warstwowej lub profilu\,\nEtykieta uniwersalna\,\nEtykieta wymiarowania\,\nEtykieta wysokości\,\nEtykieta Marker\,\nEtykieta Strzałka wejścia.\n\n\nW trakcie warsztatów zapoznamy się z różnicami pomiędzy etykietami dostępnymi w bibliotece Archiclubu a dostarczanymi standardowo w Archicadzie. Przejrzymy dostępne nowe zestawy parametrów\, które pozwolą na znaczne skrocenie pracy nad dokumentacją projektową.
URL:https://wsc.pl/wydarzenia/biblioteka-archiclubu-czesc-2-odkryj-rozbudowane-mozliwosci-dodatkowych-etykiet-archiclub/
CATEGORIES:Archicad
ATTACH;FMTTYPE=image/webp:https://wsc.pl/wp-content/uploads/2025/02/13.webp
END:VEVENT
BEGIN:VEVENT
DTSTART;TZID=Europe/Warsaw:20250310T090000
DTEND;TZID=Europe/Warsaw:20250310T094500
DTSTAMP:20260425T163538
CREATED:20250221T211342Z
LAST-MODIFIED:20250226T095748Z
UID:10000007-1741597200-1741599900@wsc.pl
SUMMARY:Wykorzystanie formatu BIMx
DESCRIPTION:Wykorzystanie formatu BIMx do prezentacji projektów wykonanych w programie Archicad.\nJak poprawić jakość i skuteczność komunikacji z klientem. Webinarium na temat zasad przygotowania i możliwości wykorzystania formatu BIMx do prezentacji modeli i dokumentacji projektów wykonanych w Archicadzie.
URL:https://wsc.pl/wydarzenia/wykorzystanie-formatu-bimx/
CATEGORIES:Archicad
ATTACH;FMTTYPE=image/webp:https://wsc.pl/wp-content/uploads/2025/02/10.webp
END:VEVENT
BEGIN:VEVENT
DTSTART;TZID=Europe/Warsaw:20250305T100000
DTEND;TZID=Europe/Warsaw:20250305T110000
DTSTAMP:20260425T163538
CREATED:20250226T092709Z
LAST-MODIFIED:20250226T093426Z
UID:10000012-1741168800-1741172400@wsc.pl
SUMMARY:Archicad - automatyzacja pracy nad dokumentacją - szkolenie dla członków ARCHICLUBu
DESCRIPTION:Czy Twoja praca z dokumentacją w Archicadzie mogłaby być szybsza i bardziej uporządkowana?\nPodczas tego webinaru poznasz praktyczne sposoby na automatyzację procesów\, które usprawnią Twoją codzienną pracę i pozwolą uniknąć żmudnych\, powtarzalnych czynności.\n🔹 Czego się nauczysz?\n✅ Jak klonować foldery i oszczędzać czas na organizacji projektu\n✅ Jak tworzyć szablony arkuszy\, by standaryzować dokumentację\n✅ Jak generować arkusze na podstawie struktury widoków\n✅ Jak skutecznie zarządzać dokumentacją\, by zyskać lepszą kontrolę nad projektem \nDołącz do webinaru i odkryj\, jak w pełni wykorzystać możliwości Archicada w zakresie automatyzacji dokumentacji! \n🚀 Zarejestruj się już teraz!
URL:https://wsc.pl/wydarzenia/archicad-automatyzacja-pracy-nad-dokumentacja-szkolenie-dla-czlonkow-archiclubu-2/
CATEGORIES:Archicad
ATTACH;FMTTYPE=image/png:https://wsc.pl/wp-content/uploads/2025/02/5.03.2025-WSC-ARCHICAD-automatyzacja-archicad-zamkniete-MW-3.png
END:VEVENT
END:VCALENDAR