BEGIN:VCALENDAR
VERSION:2.0
PRODID:-//WSC - ECPv6.15.20//NONSGML v1.0//EN
CALSCALE:GREGORIAN
METHOD:PUBLISH
X-WR-CALNAME:WSC
X-ORIGINAL-URL:https://wsc.pl
X-WR-CALDESC:Wydarzenia dla WSC
REFRESH-INTERVAL;VALUE=DURATION:PT1H
X-Robots-Tag:noindex
X-PUBLISHED-TTL:PT1H
BEGIN:VTIMEZONE
TZID:Europe/Warsaw
BEGIN:DAYLIGHT
TZOFFSETFROM:+0100
TZOFFSETTO:+0200
TZNAME:CEST
DTSTART:20240331T010000
END:DAYLIGHT
BEGIN:STANDARD
TZOFFSETFROM:+0200
TZOFFSETTO:+0100
TZNAME:CET
DTSTART:20241027T010000
END:STANDARD
BEGIN:DAYLIGHT
TZOFFSETFROM:+0100
TZOFFSETTO:+0200
TZNAME:CEST
DTSTART:20250330T010000
END:DAYLIGHT
BEGIN:STANDARD
TZOFFSETFROM:+0200
TZOFFSETTO:+0100
TZNAME:CET
DTSTART:20251026T010000
END:STANDARD
BEGIN:DAYLIGHT
TZOFFSETFROM:+0100
TZOFFSETTO:+0200
TZNAME:CEST
DTSTART:20260329T010000
END:DAYLIGHT
BEGIN:STANDARD
TZOFFSETFROM:+0200
TZOFFSETTO:+0100
TZNAME:CET
DTSTART:20261025T010000
END:STANDARD
END:VTIMEZONE
BEGIN:VEVENT
DTSTART;TZID=Europe/Warsaw:20251105T110000
DTEND;TZID=Europe/Warsaw:20251105T114500
DTSTAMP:20260426T033242
CREATED:20251016T135521Z
LAST-MODIFIED:20251016T135521Z
UID:10000291-1762340400-1762343100@wsc.pl
SUMMARY:Program Konwersji WSC: od licencji wieczystej do subskrypcji Archicada
DESCRIPTION:Ten webinar to wyjątkowa okazja\, aby uzyskać pełną wiedzę na temat najważniejszych zmian w sprzedaży Archicada oraz wsparciu i ofercie od WSC.\nTen webinar to wyjątkowa okazja\, aby uzyskać pełną wiedzę na temat najważniejszych zmian w sprzedaży Archicada oraz wsparciu i ofercie od WSC. \nUczestnicy dowiedzą się\, jak najlepiej wykorzystać Program Konwersji\, jakie decyzje podjąć w zakresie aktualizacji\, licencji wieczystych i subskrypcji\, a także jak zoptymalizować koszty w perspektywie nadchodzących zmian. To praktyczne wskazówki\, które pozwolą uniknąć utraty korzystnych warunków i zapewnią ciągłość pracy w najnowszych wersjach Archicada. \nPodczas spotkania:\n• poznasz zasady i korzyści Programu Konwersji WSC\,\n• dowiesz się\, jak wygląda proces od strony technicznej i organizacyjnej\,\n• uzyskasz odpowiedzi na wszystkie pytania dotyczące Twojej licencji. \nTo doskonała okazja\, aby porozmawiać bezpośrednio z ekspertem WSC\, który chętnie rozwieje wszelkie wątpliwości. \nJeśli po spotkaniu zechcesz uzyskać indywidualną ofertę lub dodatkową konsultację\, możesz pozostawić swoje dane kontaktowe prowadzącemu – nasz zespół sprzedaży skontaktuje się z Tobą i pomoże dobrać najlepsze rozwiązanie. \nW programie webinaru: \n\nArchicada 29 dostępny od 02.10.2024.\nProgram Konwersji WSC\n\nCzym jest Program Konwersji i dla kogo jest przeznaczony\nSzczegółowe warunki i możliwości przejścia\nNajczęstsze pytania klientów i praktyczne przykłady\n\n\nLicencje wieczyste i ich aktualizacje – jakie są terminy i co dalej się z nimi stanie?\nSubskrypcje Archicada – jakie mamy możliwości\nPodsumowanie i rekomendacje\nSesja pytań i odpowiedzi
URL:https://wsc.pl/wydarzenia/program-konwersji-wsc-od-licencji-wieczystej-do-subskrypcji-archicada-3/
CATEGORIES:Archicad
ATTACH;FMTTYPE=image/png:https://wsc.pl/wp-content/uploads/2025/10/5-listopada-konwersja-2025_.png
ORGANIZER;CN="WSC":MAILTO:wsc@wsc.pl
END:VEVENT
BEGIN:VEVENT
DTSTART;TZID=Europe/Warsaw:20251113T090000
DTEND;TZID=Europe/Warsaw:20251113T101500
DTSTAMP:20260426T033242
CREATED:20251016T131041Z
LAST-MODIFIED:20251016T131041Z
UID:10000300-1763024400-1763028900@wsc.pl
SUMMARY:Archicad 29: zarządzanie informacją i zestawienia w modelu
DESCRIPTION:W trakcie webinarium omówimy i przećwiczymy zagadnienia wykorzystania informacji w modelu – tworzenie prostych właściwości i generowanie różnych zestawień.\nWebinarium będzie obejmowało możliwości konfiguracji zestawień w Archicadzie 29 – w celu aktywnego udziału w tej części proszę zainstalować najnowszą wersję Archicada.
URL:https://wsc.pl/wydarzenia/archicad-29-zarzadzanie-informacja-i-zestawienia-w-modelu/
CATEGORIES:Archicad
ATTACH;FMTTYPE=image/png:https://wsc.pl/wp-content/uploads/2025/10/13.11.2025-Zarzadzanie-informacja-PP.png
ORGANIZER;CN="WSC":MAILTO:wsc@wsc.pl
END:VEVENT
BEGIN:VEVENT
DTSTART;TZID=Europe/Warsaw:20251113T100000
DTEND;TZID=Europe/Warsaw:20251113T140000
DTSTAMP:20260426T033242
CREATED:20251016T130320Z
LAST-MODIFIED:20251016T130320Z
UID:10000296-1763028000-1763042400@wsc.pl
SUMMARY:Szkolenie Archicad Podstawowy | 16 godzin | online
DESCRIPTION:Szkolenie podstawowe z Archicada jest przeznaczone dla wszystkich\, którzy chcą rozpocząć pracę w jednym z najpopularniejszych programów BIM dla architektów i projektantów.\nNa szkolenie zapraszamy: \n\nosoby początkujące\, które dopiero zaczynają swoją przygodę z projektowaniem w środowisku CAD/BIM i chcą od razu nauczyć się pracy w nowoczesnym\, intuicyjnym narzędziu\,\nprojektantów i architektów planujących przesiadkę z innego programu (np. AutoCAD\, Revit\, Vectorworks)\, którzy chcą poznać zasady modelowania i dokumentowania projektów w Archicadzie\,\nstudentów kierunków architektonicznych i budowlanych\, którzy chcą zdobyć praktyczne umiejętności przydatne w pracy zawodowej.\n\nSzkolenie stanowi solidne wprowadzenie do świata Archicada – uczestnicy poznają podstawowe narzędzia\, zasady modelowania 3D\, tworzenia rysunków 2D\, zestawień oraz organizacji projektu w środowisku BIM. \nProgram szkolenia\nCzęść 1 – Środowisko robocze Archicada \n\nOmówienie interfejsu programu i zależności między funkcjami\nPraca na gotowym modelu – edycja i zarządzanie elementami modelu\nStruktura modelu i dobre zasady jego tworzenia\nTworzenie i wykorzystanie atrybutów elementów konstrukcyjnych\n\nCzęść 2 – Narzędzia parametryczne \n\nModelowanie kluczowych elementów budynku\nRelacje między elementami\nPoprawne łączenie elementów konstrukcyjnych\nUłatwienia w modelowaniu\n\nCzęść 3 – Wykorzystanie informacji w modelu \n\nTworzenie i opisywanie stref w budynku\nParametry elementów w zestawieniach\nGenerowanie zestawień i zarządzanie informacjami\n\nCzęść 4 – Dokumentacja \n\nGenerowanie i edycja rysunków technicznych\nNarzędzia opisywania rysunków\nSterowanie sposobami wyświetlania rysunków\nZarządzanie rysunkami i tworzenie struktury dokumentacji\nSzablony i arkusze – automatyczna publikacja dokumentacji\n\nInformacje organizacyjne \n\nCena szkolenia 2500 PLN netto (+23% VAT)\nCena członków Archiclub-u (po udzieleniu 25% rabatu): 1875 PLN (+23% VAT) (prosimy przy rejestracji podać numer klucza Archicada\, w celu weryfikacji członkostwa w ARCHICLUBie)\nSzkolenie płatne z góry. Jeśli potrzebują Państwo fakturę pro-forma za szkolenie prosimy o taką informację na maila: marketing@wsc.pl\nOpłata za szkolenie przelewem na numer konta: 24 1090 1014 0000 0001 0375 4193 W tytule przelewu proszę podać nazwę szkolenia: “Archicad – szkolenie podstawowe 16h – listopad 2025”\nSzkolenie przeprowadzone zostanie z wykorzystaniem Archicada 29.\nOsoby nie posiadające programu proszone są o pobranie 30-dniowej\, bezpłatnej wersji TRIAL: https://wsc.pl/produkty/archicad/ac-trial/\nSzkolenie odbędzie się on-line\, na platformie ZOOM
URL:https://wsc.pl/wydarzenia/szkolenie-archicad-podstawowy-16-godzin-online/2025-11-13/
CATEGORIES:Archicad
ATTACH;FMTTYPE=image/png:https://wsc.pl/wp-content/uploads/2025/10/13141718.11.2025-WSC-ARCHICAD-29-szkolenie-podstawowe-MW.png
ORGANIZER;CN="WSC":MAILTO:wsc@wsc.pl
END:VEVENT
BEGIN:VEVENT
DTSTART;TZID=Europe/Warsaw:20251114T100000
DTEND;TZID=Europe/Warsaw:20251114T140000
DTSTAMP:20260426T033242
CREATED:20251016T130320Z
LAST-MODIFIED:20251016T130320Z
UID:10000297-1763114400-1763128800@wsc.pl
SUMMARY:Szkolenie Archicad Podstawowy | 16 godzin | online
DESCRIPTION:Szkolenie podstawowe z Archicada jest przeznaczone dla wszystkich\, którzy chcą rozpocząć pracę w jednym z najpopularniejszych programów BIM dla architektów i projektantów.\nNa szkolenie zapraszamy: \n\nosoby początkujące\, które dopiero zaczynają swoją przygodę z projektowaniem w środowisku CAD/BIM i chcą od razu nauczyć się pracy w nowoczesnym\, intuicyjnym narzędziu\,\nprojektantów i architektów planujących przesiadkę z innego programu (np. AutoCAD\, Revit\, Vectorworks)\, którzy chcą poznać zasady modelowania i dokumentowania projektów w Archicadzie\,\nstudentów kierunków architektonicznych i budowlanych\, którzy chcą zdobyć praktyczne umiejętności przydatne w pracy zawodowej.\n\nSzkolenie stanowi solidne wprowadzenie do świata Archicada – uczestnicy poznają podstawowe narzędzia\, zasady modelowania 3D\, tworzenia rysunków 2D\, zestawień oraz organizacji projektu w środowisku BIM. \nProgram szkolenia\nCzęść 1 – Środowisko robocze Archicada \n\nOmówienie interfejsu programu i zależności między funkcjami\nPraca na gotowym modelu – edycja i zarządzanie elementami modelu\nStruktura modelu i dobre zasady jego tworzenia\nTworzenie i wykorzystanie atrybutów elementów konstrukcyjnych\n\nCzęść 2 – Narzędzia parametryczne \n\nModelowanie kluczowych elementów budynku\nRelacje między elementami\nPoprawne łączenie elementów konstrukcyjnych\nUłatwienia w modelowaniu\n\nCzęść 3 – Wykorzystanie informacji w modelu \n\nTworzenie i opisywanie stref w budynku\nParametry elementów w zestawieniach\nGenerowanie zestawień i zarządzanie informacjami\n\nCzęść 4 – Dokumentacja \n\nGenerowanie i edycja rysunków technicznych\nNarzędzia opisywania rysunków\nSterowanie sposobami wyświetlania rysunków\nZarządzanie rysunkami i tworzenie struktury dokumentacji\nSzablony i arkusze – automatyczna publikacja dokumentacji\n\nInformacje organizacyjne \n\nCena szkolenia 2500 PLN netto (+23% VAT)\nCena członków Archiclub-u (po udzieleniu 25% rabatu): 1875 PLN (+23% VAT) (prosimy przy rejestracji podać numer klucza Archicada\, w celu weryfikacji członkostwa w ARCHICLUBie)\nSzkolenie płatne z góry. Jeśli potrzebują Państwo fakturę pro-forma za szkolenie prosimy o taką informację na maila: marketing@wsc.pl\nOpłata za szkolenie przelewem na numer konta: 24 1090 1014 0000 0001 0375 4193 W tytule przelewu proszę podać nazwę szkolenia: “Archicad – szkolenie podstawowe 16h – listopad 2025”\nSzkolenie przeprowadzone zostanie z wykorzystaniem Archicada 29.\nOsoby nie posiadające programu proszone są o pobranie 30-dniowej\, bezpłatnej wersji TRIAL: https://wsc.pl/produkty/archicad/ac-trial/\nSzkolenie odbędzie się on-line\, na platformie ZOOM
URL:https://wsc.pl/wydarzenia/szkolenie-archicad-podstawowy-16-godzin-online/2025-11-14/
CATEGORIES:Archicad
ATTACH;FMTTYPE=image/png:https://wsc.pl/wp-content/uploads/2025/10/13141718.11.2025-WSC-ARCHICAD-29-szkolenie-podstawowe-MW.png
ORGANIZER;CN="WSC":MAILTO:wsc@wsc.pl
END:VEVENT
BEGIN:VEVENT
DTSTART;TZID=Europe/Warsaw:20251114T140000
DTEND;TZID=Europe/Warsaw:20251114T144500
DTSTAMP:20260426T033242
CREATED:20251016T135635Z
LAST-MODIFIED:20251016T135635Z
UID:10000292-1763128800-1763131500@wsc.pl
SUMMARY:Program Konwersji WSC: od licencji wieczystej do subskrypcji Archicada
DESCRIPTION:Ten webinar to wyjątkowa okazja\, aby uzyskać pełną wiedzę na temat najważniejszych zmian w sprzedaży Archicada oraz wsparciu i ofercie od WSC.\nTen webinar to wyjątkowa okazja\, aby uzyskać pełną wiedzę na temat najważniejszych zmian w sprzedaży Archicada oraz wsparciu i ofercie od WSC. \nUczestnicy dowiedzą się\, jak najlepiej wykorzystać Program Konwersji\, jakie decyzje podjąć w zakresie aktualizacji\, licencji wieczystych i subskrypcji\, a także jak zoptymalizować koszty w perspektywie nadchodzących zmian. To praktyczne wskazówki\, które pozwolą uniknąć utraty korzystnych warunków i zapewnią ciągłość pracy w najnowszych wersjach Archicada. \nPodczas spotkania:\n• poznasz zasady i korzyści Programu Konwersji WSC\,\n• dowiesz się\, jak wygląda proces od strony technicznej i organizacyjnej\,\n• uzyskasz odpowiedzi na wszystkie pytania dotyczące Twojej licencji. \nTo doskonała okazja\, aby porozmawiać bezpośrednio z ekspertem WSC\, który chętnie rozwieje wszelkie wątpliwości. \nJeśli po spotkaniu zechcesz uzyskać indywidualną ofertę lub dodatkową konsultację\, możesz pozostawić swoje dane kontaktowe prowadzącemu – nasz zespół sprzedaży skontaktuje się z Tobą i pomoże dobrać najlepsze rozwiązanie. \nW programie webinaru: \n\nArchicada 29 dostępny od 02.10.2024.\nProgram Konwersji WSC\n\nCzym jest Program Konwersji i dla kogo jest przeznaczony\nSzczegółowe warunki i możliwości przejścia\nNajczęstsze pytania klientów i praktyczne przykłady\n\n\nLicencje wieczyste i ich aktualizacje – jakie są terminy i co dalej się z nimi stanie?\nSubskrypcje Archicada – jakie mamy możliwości\nPodsumowanie i rekomendacje\nSesja pytań i odpowiedzi
URL:https://wsc.pl/wydarzenia/program-konwersji-wsc-od-licencji-wieczystej-do-subskrypcji-archicada-4/
CATEGORIES:Archicad
ATTACH;FMTTYPE=image/png:https://wsc.pl/wp-content/uploads/2025/10/14-listopada-konwersja-2025.png
ORGANIZER;CN="WSC":MAILTO:wsc@wsc.pl
END:VEVENT
BEGIN:VEVENT
DTSTART;TZID=Europe/Warsaw:20251117T100000
DTEND;TZID=Europe/Warsaw:20251117T140000
DTSTAMP:20260426T033242
CREATED:20251016T130320Z
LAST-MODIFIED:20251016T130320Z
UID:10000298-1763373600-1763388000@wsc.pl
SUMMARY:Szkolenie Archicad Podstawowy | 16 godzin | online
DESCRIPTION:Szkolenie podstawowe z Archicada jest przeznaczone dla wszystkich\, którzy chcą rozpocząć pracę w jednym z najpopularniejszych programów BIM dla architektów i projektantów.\nNa szkolenie zapraszamy: \n\nosoby początkujące\, które dopiero zaczynają swoją przygodę z projektowaniem w środowisku CAD/BIM i chcą od razu nauczyć się pracy w nowoczesnym\, intuicyjnym narzędziu\,\nprojektantów i architektów planujących przesiadkę z innego programu (np. AutoCAD\, Revit\, Vectorworks)\, którzy chcą poznać zasady modelowania i dokumentowania projektów w Archicadzie\,\nstudentów kierunków architektonicznych i budowlanych\, którzy chcą zdobyć praktyczne umiejętności przydatne w pracy zawodowej.\n\nSzkolenie stanowi solidne wprowadzenie do świata Archicada – uczestnicy poznają podstawowe narzędzia\, zasady modelowania 3D\, tworzenia rysunków 2D\, zestawień oraz organizacji projektu w środowisku BIM. \nProgram szkolenia\nCzęść 1 – Środowisko robocze Archicada \n\nOmówienie interfejsu programu i zależności między funkcjami\nPraca na gotowym modelu – edycja i zarządzanie elementami modelu\nStruktura modelu i dobre zasady jego tworzenia\nTworzenie i wykorzystanie atrybutów elementów konstrukcyjnych\n\nCzęść 2 – Narzędzia parametryczne \n\nModelowanie kluczowych elementów budynku\nRelacje między elementami\nPoprawne łączenie elementów konstrukcyjnych\nUłatwienia w modelowaniu\n\nCzęść 3 – Wykorzystanie informacji w modelu \n\nTworzenie i opisywanie stref w budynku\nParametry elementów w zestawieniach\nGenerowanie zestawień i zarządzanie informacjami\n\nCzęść 4 – Dokumentacja \n\nGenerowanie i edycja rysunków technicznych\nNarzędzia opisywania rysunków\nSterowanie sposobami wyświetlania rysunków\nZarządzanie rysunkami i tworzenie struktury dokumentacji\nSzablony i arkusze – automatyczna publikacja dokumentacji\n\nInformacje organizacyjne \n\nCena szkolenia 2500 PLN netto (+23% VAT)\nCena członków Archiclub-u (po udzieleniu 25% rabatu): 1875 PLN (+23% VAT) (prosimy przy rejestracji podać numer klucza Archicada\, w celu weryfikacji członkostwa w ARCHICLUBie)\nSzkolenie płatne z góry. Jeśli potrzebują Państwo fakturę pro-forma za szkolenie prosimy o taką informację na maila: marketing@wsc.pl\nOpłata za szkolenie przelewem na numer konta: 24 1090 1014 0000 0001 0375 4193 W tytule przelewu proszę podać nazwę szkolenia: “Archicad – szkolenie podstawowe 16h – listopad 2025”\nSzkolenie przeprowadzone zostanie z wykorzystaniem Archicada 29.\nOsoby nie posiadające programu proszone są o pobranie 30-dniowej\, bezpłatnej wersji TRIAL: https://wsc.pl/produkty/archicad/ac-trial/\nSzkolenie odbędzie się on-line\, na platformie ZOOM
URL:https://wsc.pl/wydarzenia/szkolenie-archicad-podstawowy-16-godzin-online/2025-11-17/
CATEGORIES:Archicad
ATTACH;FMTTYPE=image/png:https://wsc.pl/wp-content/uploads/2025/10/13141718.11.2025-WSC-ARCHICAD-29-szkolenie-podstawowe-MW.png
ORGANIZER;CN="WSC":MAILTO:wsc@wsc.pl
END:VEVENT
BEGIN:VEVENT
DTSTART;TZID=Europe/Warsaw:20251118T100000
DTEND;TZID=Europe/Warsaw:20251118T140000
DTSTAMP:20260426T033242
CREATED:20251016T130320Z
LAST-MODIFIED:20251016T130320Z
UID:10000299-1763460000-1763474400@wsc.pl
SUMMARY:Szkolenie Archicad Podstawowy | 16 godzin | online
DESCRIPTION:Szkolenie podstawowe z Archicada jest przeznaczone dla wszystkich\, którzy chcą rozpocząć pracę w jednym z najpopularniejszych programów BIM dla architektów i projektantów.\nNa szkolenie zapraszamy: \n\nosoby początkujące\, które dopiero zaczynają swoją przygodę z projektowaniem w środowisku CAD/BIM i chcą od razu nauczyć się pracy w nowoczesnym\, intuicyjnym narzędziu\,\nprojektantów i architektów planujących przesiadkę z innego programu (np. AutoCAD\, Revit\, Vectorworks)\, którzy chcą poznać zasady modelowania i dokumentowania projektów w Archicadzie\,\nstudentów kierunków architektonicznych i budowlanych\, którzy chcą zdobyć praktyczne umiejętności przydatne w pracy zawodowej.\n\nSzkolenie stanowi solidne wprowadzenie do świata Archicada – uczestnicy poznają podstawowe narzędzia\, zasady modelowania 3D\, tworzenia rysunków 2D\, zestawień oraz organizacji projektu w środowisku BIM. \nProgram szkolenia\nCzęść 1 – Środowisko robocze Archicada \n\nOmówienie interfejsu programu i zależności między funkcjami\nPraca na gotowym modelu – edycja i zarządzanie elementami modelu\nStruktura modelu i dobre zasady jego tworzenia\nTworzenie i wykorzystanie atrybutów elementów konstrukcyjnych\n\nCzęść 2 – Narzędzia parametryczne \n\nModelowanie kluczowych elementów budynku\nRelacje między elementami\nPoprawne łączenie elementów konstrukcyjnych\nUłatwienia w modelowaniu\n\nCzęść 3 – Wykorzystanie informacji w modelu \n\nTworzenie i opisywanie stref w budynku\nParametry elementów w zestawieniach\nGenerowanie zestawień i zarządzanie informacjami\n\nCzęść 4 – Dokumentacja \n\nGenerowanie i edycja rysunków technicznych\nNarzędzia opisywania rysunków\nSterowanie sposobami wyświetlania rysunków\nZarządzanie rysunkami i tworzenie struktury dokumentacji\nSzablony i arkusze – automatyczna publikacja dokumentacji\n\nInformacje organizacyjne \n\nCena szkolenia 2500 PLN netto (+23% VAT)\nCena członków Archiclub-u (po udzieleniu 25% rabatu): 1875 PLN (+23% VAT) (prosimy przy rejestracji podać numer klucza Archicada\, w celu weryfikacji członkostwa w ARCHICLUBie)\nSzkolenie płatne z góry. Jeśli potrzebują Państwo fakturę pro-forma za szkolenie prosimy o taką informację na maila: marketing@wsc.pl\nOpłata za szkolenie przelewem na numer konta: 24 1090 1014 0000 0001 0375 4193 W tytule przelewu proszę podać nazwę szkolenia: “Archicad – szkolenie podstawowe 16h – listopad 2025”\nSzkolenie przeprowadzone zostanie z wykorzystaniem Archicada 29.\nOsoby nie posiadające programu proszone są o pobranie 30-dniowej\, bezpłatnej wersji TRIAL: https://wsc.pl/produkty/archicad/ac-trial/\nSzkolenie odbędzie się on-line\, na platformie ZOOM
URL:https://wsc.pl/wydarzenia/szkolenie-archicad-podstawowy-16-godzin-online/2025-11-18/
CATEGORIES:Archicad
ATTACH;FMTTYPE=image/png:https://wsc.pl/wp-content/uploads/2025/10/13141718.11.2025-WSC-ARCHICAD-29-szkolenie-podstawowe-MW.png
ORGANIZER;CN="WSC":MAILTO:wsc@wsc.pl
END:VEVENT
BEGIN:VEVENT
DTSTART;TZID=Europe/Warsaw:20251119T110000
DTEND;TZID=Europe/Warsaw:20251119T114500
DTSTAMP:20260426T033242
CREATED:20251016T140036Z
LAST-MODIFIED:20251017T145016Z
UID:10000293-1763550000-1763552700@wsc.pl
SUMMARY:Program Konwersji WSC: od licencji wieczystej do subskrypcji Archicada
DESCRIPTION:Ten webinar to wyjątkowa okazja\, aby uzyskać pełną wiedzę na temat najważniejszych zmian w sprzedaży Archicada oraz wsparciu i ofercie od WSC.\nTen webinar to wyjątkowa okazja\, aby uzyskać pełną wiedzę na temat najważniejszych zmian w sprzedaży Archicada oraz wsparciu i ofercie od WSC. \nUczestnicy dowiedzą się\, jak najlepiej wykorzystać Program Konwersji\, jakie decyzje podjąć w zakresie aktualizacji\, licencji wieczystych i subskrypcji\, a także jak zoptymalizować koszty w perspektywie nadchodzących zmian. To praktyczne wskazówki\, które pozwolą uniknąć utraty korzystnych warunków i zapewnią ciągłość pracy w najnowszych wersjach Archicada. \nPodczas spotkania:\n• poznasz zasady i korzyści Programu Konwersji WSC\,\n• dowiesz się\, jak wygląda proces od strony technicznej i organizacyjnej\,\n• uzyskasz odpowiedzi na wszystkie pytania dotyczące Twojej licencji. \nTo doskonała okazja\, aby porozmawiać bezpośrednio z ekspertem WSC\, który chętnie rozwieje wszelkie wątpliwości. \nJeśli po spotkaniu zechcesz uzyskać indywidualną ofertę lub dodatkową konsultację\, możesz pozostawić swoje dane kontaktowe prowadzącemu – nasz zespół sprzedaży skontaktuje się z Tobą i pomoże dobrać najlepsze rozwiązanie. \nW programie webinaru: \n\nArchicada 29 dostępny od 02.10.2024.\nProgram Konwersji WSC\n\nCzym jest Program Konwersji i dla kogo jest przeznaczony\nSzczegółowe warunki i możliwości przejścia\nNajczęstsze pytania klientów i praktyczne przykłady\n\n\nLicencje wieczyste i ich aktualizacje – jakie są terminy i co dalej się z nimi stanie?\nSubskrypcje Archicada – jakie mamy możliwości\nPodsumowanie i rekomendacje\nSesja pytań i odpowiedzi
URL:https://wsc.pl/wydarzenia/program-konwersji-wsc-od-licencji-wieczystej-do-subskrypcji-archicada-5/
CATEGORIES:Archicad
ATTACH;FMTTYPE=image/png:https://wsc.pl/wp-content/uploads/2025/10/19-listopada-konwersja-2025.png
ORGANIZER;CN="WSC":MAILTO:wsc@wsc.pl
END:VEVENT
BEGIN:VEVENT
DTSTART;TZID=Europe/Warsaw:20251120T160000
DTEND;TZID=Europe/Warsaw:20251120T173000
DTSTAMP:20260426T033242
CREATED:20251028T085530Z
LAST-MODIFIED:20251103T115103Z
UID:10000295-1763654400-1763659800@wsc.pl
SUMMARY:Narzędzia Archiclubu - część 7. Archicad 29 – nowy Wzorzec oraz Profile środowiska pracy\, nowości biblioteki narzędzi.
DESCRIPTION:Uwaga! szkolenie przeniesione z 06.11.2025\nW trakcie warsztatów wykonamy ćwiczenia praktyczne w najnowszej wersji Archicada 29 oraz najnowszą biblioteką Archiclubową.\nW związku z nowościami najnowszej wersji programu zaprezentujemy unowocześniony autorski wzorzec Archicada oraz między innymi: \n\nzapoznamy się ze zmianami w dostarczanych bibliotekach standardowych programu\,\nopowiemy o różnicach pomiędzy bibliotekami Monolitycznymi a Globalnymi\,\nprzećwiczymy migrację bibliotek dla starszych projektów\,\nzademonstrujemy działanie unowocześnionego wzorca do Archicada 29\,\nprzećwiczymy czym są Profile środowiska pracy i dlaczego warto używać te przygotowane w ramach narzędzi Archiclubu\,\nzapoznamy się z kilkoma nowościami w narzędziach dostarczanych w bibliotece Archiclubu.\n\nW trakcie warsztatów odpowiemy na wszelkie pytania związane z działaniem biblioteki.
URL:https://wsc.pl/wydarzenia/narzedzia-archiclubu-czesc-7-archicad-29-nowy-wzorzec-oraz-profile-srodowiska-pracy-nowosci-biblioteki-narzedzi/
CATEGORIES:Archicad
ATTACH;FMTTYPE=image/jpeg:https://wsc.pl/wp-content/uploads/2025/10/6.11.2025-WSC-ARCHICLUB-biblioteki-SZABLONY-I-PROFILE.jpg
ORGANIZER;CN="WSC":MAILTO:wsc@wsc.pl
END:VEVENT
BEGIN:VEVENT
DTSTART;TZID=Europe/Warsaw:20251126T090000
DTEND;TZID=Europe/Warsaw:20251126T101500
DTSTAMP:20260426T033242
CREATED:20251016T131818Z
LAST-MODIFIED:20251029T090548Z
UID:10000301-1764147600-1764152100@wsc.pl
SUMMARY:Archicad 29 i MEP Designer – możliwości projektowania instalacji.
DESCRIPTION:Archicad 29 i MEP Designer – możliwości projektowania instalacji\nW trakcie webinarium przedstawimy ogólnie możliwości projektowania instalacji w MEP Designer. Spotkanie w formie omówienia bez ćwiczeń – również dla osób nieznających Archicada i chcących w przyszłości zastosować go nie tylko w projektowaniu architektonicznym. \nBluebeam – wsparcie współpracy zespołowej\nW drugiej części pokażemy możliwości wykorzystania plików PDF i systemu Bluebeam w zakresie wsparcia współpracy zespołowej i wykorzystania dokumentacji projektowej.
URL:https://wsc.pl/wydarzenia/archicad-29-i-mep-designer-mozliwosci-projektowania-instalacji/
CATEGORIES:Archicad,Bluebeam Revu
ATTACH;FMTTYPE=image/png:https://wsc.pl/wp-content/uploads/2025/10/26.11.2025-MEP-Designer-PP.png
ORGANIZER;CN="WSC":MAILTO:wsc@wsc.pl
END:VEVENT
BEGIN:VEVENT
DTSTART;TZID=Europe/Warsaw:20251127T150000
DTEND;TZID=Europe/Warsaw:20251127T163000
DTSTAMP:20260426T033242
CREATED:20251016T132439Z
LAST-MODIFIED:20251028T073029Z
UID:10000302-1764255600-1764261000@wsc.pl
SUMMARY:BIMcloud - jak pracować zespołowo w środowisku Archicada - szkolenie dla członków Archiclubu
DESCRIPTION:Uczestnicy poznają podstawowe zasady zarządzania projektami\, użytkownikami i zasobami w środowisku BIMcloud.\nSzkolenie ma na celu ułatwienie efektywnej współpracy zespołowej w Archicadzie oraz wprowadzenie do administracji serwerem projektowym.\n🕒 Agenda szkolenia \n\n Wprowadzenie do BIMcloud\n\n\nCzym jest BIMcloud oraz jego moduły i do czego służą\nWskazówki dotyczące organizacji środowiska BIMcloud\nRóżnice między BIMcloud\, BIMcloud Basic a BIMcloud SaaS\nStruktura środowiska: serwer\, projekty\, użytkownicy\, role\n\n\n Zarządzanie użytkownikami\n\n\nDodawanie i edycja kont użytkowników\nDefiniowanie grup użytkowników\nPrzypisywanie ról i poziomów dostępu\n\n\n Zarządzanie uprawnieniami\n\n\nKonfiguracja ról i zestawów uprawnień\nPrzykłady praktyczne: rola projektanta\, lidera zespołu\, administratora\nOchrona projektów i danych\n\n\n Zarządzanie bibliotekami \n\n\nWgrywanie i aktualizacja bibliotek w BIMcloud\nPrzypisywanie bibliotek do projektów\nDobre praktyki pracy z bibliotekami zespołowymi\n\n\n Zarządzanie projektami\n\n\nTworzenie i udostępnianie projektów w BIMcloud\nKopie zapasowe\, archiwizacja i wersjonowanie\nMonitorowanie aktywności użytkowników\nSynchronizacja\n\n\n Podsumowanie i sesja pytań \n\n\nPytania i dyskusja\n\n 
URL:https://wsc.pl/wydarzenia/bimcloud-jak-pracowac-zespolowo-w-srodowisku-archicada-szkolenie-dla-czlonkow-archiclubu/
CATEGORIES:Archicad
ATTACH;FMTTYPE=image/png:https://wsc.pl/wp-content/uploads/2025/10/27.11.2025-BIMcloud-Aleksander2.png
ORGANIZER;CN="WSC":MAILTO:wsc@wsc.pl
END:VEVENT
BEGIN:VEVENT
DTSTART;TZID=Europe/Warsaw:20251128T130000
DTEND;TZID=Europe/Warsaw:20251128T134500
DTSTAMP:20260426T033242
CREATED:20251016T140141Z
LAST-MODIFIED:20251016T140141Z
UID:10000294-1764334800-1764337500@wsc.pl
SUMMARY:Program Konwersji WSC: od licencji wieczystej do subskrypcji Archicada
DESCRIPTION:Ten webinar to wyjątkowa okazja\, aby uzyskać pełną wiedzę na temat najważniejszych zmian w sprzedaży Archicada oraz wsparciu i ofercie od WSC.\nTen webinar to wyjątkowa okazja\, aby uzyskać pełną wiedzę na temat najważniejszych zmian w sprzedaży Archicada oraz wsparciu i ofercie od WSC. \nUczestnicy dowiedzą się\, jak najlepiej wykorzystać Program Konwersji\, jakie decyzje podjąć w zakresie aktualizacji\, licencji wieczystych i subskrypcji\, a także jak zoptymalizować koszty w perspektywie nadchodzących zmian. To praktyczne wskazówki\, które pozwolą uniknąć utraty korzystnych warunków i zapewnią ciągłość pracy w najnowszych wersjach Archicada. \nPodczas spotkania:\n• poznasz zasady i korzyści Programu Konwersji WSC\,\n• dowiesz się\, jak wygląda proces od strony technicznej i organizacyjnej\,\n• uzyskasz odpowiedzi na wszystkie pytania dotyczące Twojej licencji. \nTo doskonała okazja\, aby porozmawiać bezpośrednio z ekspertem WSC\, który chętnie rozwieje wszelkie wątpliwości. \nJeśli po spotkaniu zechcesz uzyskać indywidualną ofertę lub dodatkową konsultację\, możesz pozostawić swoje dane kontaktowe prowadzącemu – nasz zespół sprzedaży skontaktuje się z Tobą i pomoże dobrać najlepsze rozwiązanie. \nW programie webinaru: \n\nArchicada 29 dostępny od 02.10.2024.\nProgram Konwersji WSC\n\nCzym jest Program Konwersji i dla kogo jest przeznaczony\nSzczegółowe warunki i możliwości przejścia\nNajczęstsze pytania klientów i praktyczne przykłady\n\n\nLicencje wieczyste i ich aktualizacje – jakie są terminy i co dalej się z nimi stanie?\nSubskrypcje Archicada – jakie mamy możliwości\nPodsumowanie i rekomendacje\nSesja pytań i odpowiedzi
URL:https://wsc.pl/wydarzenia/program-konwersji-wsc-od-licencji-wieczystej-do-subskrypcji-archicada-6/
CATEGORIES:Archicad
ATTACH;FMTTYPE=image/png:https://wsc.pl/wp-content/uploads/2025/10/28-listopada-konwersja-2025_.png
ORGANIZER;CN="WSC":MAILTO:wsc@wsc.pl
END:VEVENT
END:VCALENDAR