BEGIN:VCALENDAR
VERSION:2.0
PRODID:-//WSC - ECPv6.15.20//NONSGML v1.0//EN
CALSCALE:GREGORIAN
METHOD:PUBLISH
X-ORIGINAL-URL:https://wsc.pl
X-WR-CALDESC:Wydarzenia dla WSC
REFRESH-INTERVAL;VALUE=DURATION:PT1H
X-Robots-Tag:noindex
X-PUBLISHED-TTL:PT1H
BEGIN:VTIMEZONE
TZID:Europe/Warsaw
BEGIN:DAYLIGHT
TZOFFSETFROM:+0100
TZOFFSETTO:+0200
TZNAME:CEST
DTSTART:20240331T010000
END:DAYLIGHT
BEGIN:STANDARD
TZOFFSETFROM:+0200
TZOFFSETTO:+0100
TZNAME:CET
DTSTART:20241027T010000
END:STANDARD
BEGIN:DAYLIGHT
TZOFFSETFROM:+0100
TZOFFSETTO:+0200
TZNAME:CEST
DTSTART:20250330T010000
END:DAYLIGHT
BEGIN:STANDARD
TZOFFSETFROM:+0200
TZOFFSETTO:+0100
TZNAME:CET
DTSTART:20251026T010000
END:STANDARD
BEGIN:DAYLIGHT
TZOFFSETFROM:+0100
TZOFFSETTO:+0200
TZNAME:CEST
DTSTART:20260329T010000
END:DAYLIGHT
BEGIN:STANDARD
TZOFFSETFROM:+0200
TZOFFSETTO:+0100
TZNAME:CET
DTSTART:20261025T010000
END:STANDARD
END:VTIMEZONE
BEGIN:VEVENT
DTSTART;TZID=Europe/Warsaw:20251203T140000
DTEND;TZID=Europe/Warsaw:20251203T143000
DTSTAMP:20260425T220903
CREATED:20251120T102259Z
LAST-MODIFIED:20251124T105317Z
UID:10000307-1764770400-1764772200@wsc.pl
SUMMARY:Program Konwersji WSC: od licencji wieczystej do subskrypcji Archicada
DESCRIPTION:Ten webinar to dobra okazja\, aby uzyskać pełną wiedzę na temat najważniejszych zmian w sprzedaży Archicada oraz wsparciu i ofercie od WSC.\nUczestnicy dowiedzą się\, jak najlepiej wykorzystać Program Konwersji\, jakie decyzje podjąć w zakresie aktualizacji\, licencji wieczystych i subskrypcji\, a także jak zoptymalizować koszty w perspektywie nadchodzących zmian. To praktyczne wskazówki\, które pozwolą uniknąć utraty korzystnych warunków i zapewnią ciągłość pracy w najnowszych wersjach Archicada. \nPodczas spotkania:\n• poznasz zasady i korzyści Programu Konwersji WSC\,\n• dowiesz się\, jak wygląda proces od strony technicznej i organizacyjnej\,\n• uzyskasz odpowiedzi na wszystkie pytania dotyczące Twojej licencji. \nMasz pytania? To doskonała okazja\, aby porozmawiać bezpośrednio z ekspertem WSC\, który chętnie rozwieje wszelkie wątpliwości. \nW programie webinaru: \n\nProgram Konwersji WSC\n\nCzym jest Program Konwersji i dla kogo jest przeznaczony\nSzczegółowe warunki i możliwości przejścia\nNajczęstsze pytania klientów i praktyczne przykłady\n\n\nLicencje wieczyste i ich aktualizacje – jakie są terminy i co dalej się z nimi stanie?\nSubskrypcje Archicada – jakie mamy możliwości\nPodsumowanie i rekomendacje\nSesja pytań i odpowiedzi
URL:https://wsc.pl/wydarzenia/program-konwersji-wsc-od-licencji-wieczystej-do-subskrypcji-archicada-7/
CATEGORIES:Archicad
ATTACH;FMTTYPE=image/png:https://wsc.pl/wp-content/uploads/2025/11/program-konwersji-WSC_archicad.png
ORGANIZER;CN="WSC":MAILTO:wsc@wsc.pl
END:VEVENT
BEGIN:VEVENT
DTSTART;TZID=Europe/Warsaw:20251204T100000
DTEND;TZID=Europe/Warsaw:20251204T140000
DTSTAMP:20260425T220903
CREATED:20251121T152056Z
LAST-MODIFIED:20251121T152056Z
UID:10000325-1764842400-1764856800@wsc.pl
SUMMARY:Archicad – szkolenie zaawansowane – 16 godzinne (4 dni po 4 godziny)
DESCRIPTION:Uczestnik zapisujący się na szkolenie powinien posługiwać się programem ARCHICAD na poziomie podstawowym w stopniu wynikającym z praktycznego wykorzystania programu przy sporządzaniu projektu architektoniczno-budowlanego. \nInformacje organizacyjne:  \n\nSzkolenie płatne z góry – kwota do zapłaty 3500 PLN (+ 23%VAT)\nDla członków Archiclub-u 25% rabatu – przy zgłoszeniu prosimy o podanie nr. klucza Archicada\nOpłata za szkolenie przelewem na numer konta: 24 1090 1014 0000 0001 0375 4193 W tytule przelewu proszę podać nazwę szkolenia: „Archicad – szkolenie podstawowe 16h – grudzień 2025”\nPo otrzymaniu przelewu\, na podany przy rejestracji email prześlemy link do szkolenia i fakturę.\nJeśli potrzebna jest faktura proforma poprosimy o taką informację na mail: marketing@wsc.pl.\n\nProgram szkolenia\nCzęść 1 – Modelowanie\n\nmodyfikatory profili złożonych\nszczegółowa edycja balustrady\, schodów i przegrody strukturalnej\nprzykłady modelowania terenu\nzastosowanie chmury punktów\n\nCzęść 2 – Elementy powtarzalne\n\ntworzenie obiektów i komponentów\nmoduły połączone Hotlink\n\nCzęść 3 – Dokumentacja\n\nszablony\, arkusze i publikacja\nwybrane zagadnienia szczegółowe i strategie przy dużych projektach\nkorekty i zarządzanie rewizjami dokumentacji\netapy przebudowy\n\nCzęść 4 – Informacja w modelu BIM\n\nklasyfikacja i właściwości elementów\nwarianty graficzne – wizualizacja informacji\nwykorzystanie informacji z modelu w opisywaniu projektu\n\n  \n 
URL:https://wsc.pl/wydarzenia/archicad-szkolenie-zaawansowane-16-godzinne-4-dni-po-4-godziny/2025-12-04/
CATEGORIES:Archicad
ATTACH;FMTTYPE=image/jpeg:https://wsc.pl/wp-content/uploads/2025/11/4-5-8-9.12.2025-WSC-ARCHICAD-29-szkolenie-zaawansowane-Mikolaj-W_.jpg
ORGANIZER;CN="WSC":MAILTO:wsc@wsc.pl
END:VEVENT
BEGIN:VEVENT
DTSTART;TZID=Europe/Warsaw:20251204T150000
DTEND;TZID=Europe/Warsaw:20251204T160000
DTSTAMP:20260425T220903
CREATED:20251121T151637Z
LAST-MODIFIED:20251124T071656Z
UID:10000329-1764860400-1764864000@wsc.pl
SUMMARY:Archicad 29 - Archiclub i Linijka Słońca
DESCRIPTION:Warsztaty ze skutecznego wykorzystania autorskiego narzędzia do Archicada od WSC – Linijki Słońca.\nTo narzędzie projektowe do Archicada\, które pozwoli spełnić warunki nasłonecznienia pomieszczeń określone warunkami technicznymi jakim powinny odpowiadać budynki i ich usytuowanie. \nW programie: \n\nomówienie zasady działania tradycyjnej Linijki Słońca\,\nomówienie wymogów projektowych wynikających z §60 Warunków technicznych\,\nprezentacja przykładowych projektów wykonanych z użyciem obiektu Linijki Słońca oraz Przesłanianie\,\nszkolenie z praktycznego wykonania analizy czasu nasłonecznienia na każdym etapie projektu\,\noraz jak zwykle pytania i odpowiedzi.
URL:https://wsc.pl/wydarzenia/archicad-29-archiclub-i-linijka-slonca/
CATEGORIES:Archicad
ATTACH;FMTTYPE=image/jpeg:https://wsc.pl/wp-content/uploads/2025/11/04.12.2025-WSC-ARCHICLUB-biblioteki-LINIJKA-SLONCA-Filip-Sobstel.jpg
ORGANIZER;CN="WSC":MAILTO:wsc@wsc.pl
END:VEVENT
BEGIN:VEVENT
DTSTART;TZID=Europe/Warsaw:20251205T100000
DTEND;TZID=Europe/Warsaw:20251205T140000
DTSTAMP:20260425T220903
CREATED:20251121T152056Z
LAST-MODIFIED:20251121T152056Z
UID:10000326-1764928800-1764943200@wsc.pl
SUMMARY:Archicad – szkolenie zaawansowane – 16 godzinne (4 dni po 4 godziny)
DESCRIPTION:Uczestnik zapisujący się na szkolenie powinien posługiwać się programem ARCHICAD na poziomie podstawowym w stopniu wynikającym z praktycznego wykorzystania programu przy sporządzaniu projektu architektoniczno-budowlanego. \nInformacje organizacyjne:  \n\nSzkolenie płatne z góry – kwota do zapłaty 3500 PLN (+ 23%VAT)\nDla członków Archiclub-u 25% rabatu – przy zgłoszeniu prosimy o podanie nr. klucza Archicada\nOpłata za szkolenie przelewem na numer konta: 24 1090 1014 0000 0001 0375 4193 W tytule przelewu proszę podać nazwę szkolenia: „Archicad – szkolenie podstawowe 16h – grudzień 2025”\nPo otrzymaniu przelewu\, na podany przy rejestracji email prześlemy link do szkolenia i fakturę.\nJeśli potrzebna jest faktura proforma poprosimy o taką informację na mail: marketing@wsc.pl.\n\nProgram szkolenia\nCzęść 1 – Modelowanie\n\nmodyfikatory profili złożonych\nszczegółowa edycja balustrady\, schodów i przegrody strukturalnej\nprzykłady modelowania terenu\nzastosowanie chmury punktów\n\nCzęść 2 – Elementy powtarzalne\n\ntworzenie obiektów i komponentów\nmoduły połączone Hotlink\n\nCzęść 3 – Dokumentacja\n\nszablony\, arkusze i publikacja\nwybrane zagadnienia szczegółowe i strategie przy dużych projektach\nkorekty i zarządzanie rewizjami dokumentacji\netapy przebudowy\n\nCzęść 4 – Informacja w modelu BIM\n\nklasyfikacja i właściwości elementów\nwarianty graficzne – wizualizacja informacji\nwykorzystanie informacji z modelu w opisywaniu projektu\n\n  \n 
URL:https://wsc.pl/wydarzenia/archicad-szkolenie-zaawansowane-16-godzinne-4-dni-po-4-godziny/2025-12-05/
CATEGORIES:Archicad
ATTACH;FMTTYPE=image/jpeg:https://wsc.pl/wp-content/uploads/2025/11/4-5-8-9.12.2025-WSC-ARCHICAD-29-szkolenie-zaawansowane-Mikolaj-W_.jpg
ORGANIZER;CN="WSC":MAILTO:wsc@wsc.pl
END:VEVENT
BEGIN:VEVENT
DTSTART;TZID=Europe/Warsaw:20251208T100000
DTEND;TZID=Europe/Warsaw:20251208T140000
DTSTAMP:20260425T220903
CREATED:20251121T152056Z
LAST-MODIFIED:20251121T152056Z
UID:10000327-1765188000-1765202400@wsc.pl
SUMMARY:Archicad – szkolenie zaawansowane – 16 godzinne (4 dni po 4 godziny)
DESCRIPTION:Uczestnik zapisujący się na szkolenie powinien posługiwać się programem ARCHICAD na poziomie podstawowym w stopniu wynikającym z praktycznego wykorzystania programu przy sporządzaniu projektu architektoniczno-budowlanego. \nInformacje organizacyjne:  \n\nSzkolenie płatne z góry – kwota do zapłaty 3500 PLN (+ 23%VAT)\nDla członków Archiclub-u 25% rabatu – przy zgłoszeniu prosimy o podanie nr. klucza Archicada\nOpłata za szkolenie przelewem na numer konta: 24 1090 1014 0000 0001 0375 4193 W tytule przelewu proszę podać nazwę szkolenia: „Archicad – szkolenie podstawowe 16h – grudzień 2025”\nPo otrzymaniu przelewu\, na podany przy rejestracji email prześlemy link do szkolenia i fakturę.\nJeśli potrzebna jest faktura proforma poprosimy o taką informację na mail: marketing@wsc.pl.\n\nProgram szkolenia\nCzęść 1 – Modelowanie\n\nmodyfikatory profili złożonych\nszczegółowa edycja balustrady\, schodów i przegrody strukturalnej\nprzykłady modelowania terenu\nzastosowanie chmury punktów\n\nCzęść 2 – Elementy powtarzalne\n\ntworzenie obiektów i komponentów\nmoduły połączone Hotlink\n\nCzęść 3 – Dokumentacja\n\nszablony\, arkusze i publikacja\nwybrane zagadnienia szczegółowe i strategie przy dużych projektach\nkorekty i zarządzanie rewizjami dokumentacji\netapy przebudowy\n\nCzęść 4 – Informacja w modelu BIM\n\nklasyfikacja i właściwości elementów\nwarianty graficzne – wizualizacja informacji\nwykorzystanie informacji z modelu w opisywaniu projektu\n\n  \n 
URL:https://wsc.pl/wydarzenia/archicad-szkolenie-zaawansowane-16-godzinne-4-dni-po-4-godziny/2025-12-08/
CATEGORIES:Archicad
ATTACH;FMTTYPE=image/jpeg:https://wsc.pl/wp-content/uploads/2025/11/4-5-8-9.12.2025-WSC-ARCHICAD-29-szkolenie-zaawansowane-Mikolaj-W_.jpg
ORGANIZER;CN="WSC":MAILTO:wsc@wsc.pl
END:VEVENT
BEGIN:VEVENT
DTSTART;TZID=Europe/Warsaw:20251209T100000
DTEND;TZID=Europe/Warsaw:20251209T140000
DTSTAMP:20260425T220903
CREATED:20251121T152056Z
LAST-MODIFIED:20251121T152056Z
UID:10000328-1765274400-1765288800@wsc.pl
SUMMARY:Archicad – szkolenie zaawansowane – 16 godzinne (4 dni po 4 godziny)
DESCRIPTION:Uczestnik zapisujący się na szkolenie powinien posługiwać się programem ARCHICAD na poziomie podstawowym w stopniu wynikającym z praktycznego wykorzystania programu przy sporządzaniu projektu architektoniczno-budowlanego. \nInformacje organizacyjne:  \n\nSzkolenie płatne z góry – kwota do zapłaty 3500 PLN (+ 23%VAT)\nDla członków Archiclub-u 25% rabatu – przy zgłoszeniu prosimy o podanie nr. klucza Archicada\nOpłata za szkolenie przelewem na numer konta: 24 1090 1014 0000 0001 0375 4193 W tytule przelewu proszę podać nazwę szkolenia: „Archicad – szkolenie podstawowe 16h – grudzień 2025”\nPo otrzymaniu przelewu\, na podany przy rejestracji email prześlemy link do szkolenia i fakturę.\nJeśli potrzebna jest faktura proforma poprosimy o taką informację na mail: marketing@wsc.pl.\n\nProgram szkolenia\nCzęść 1 – Modelowanie\n\nmodyfikatory profili złożonych\nszczegółowa edycja balustrady\, schodów i przegrody strukturalnej\nprzykłady modelowania terenu\nzastosowanie chmury punktów\n\nCzęść 2 – Elementy powtarzalne\n\ntworzenie obiektów i komponentów\nmoduły połączone Hotlink\n\nCzęść 3 – Dokumentacja\n\nszablony\, arkusze i publikacja\nwybrane zagadnienia szczegółowe i strategie przy dużych projektach\nkorekty i zarządzanie rewizjami dokumentacji\netapy przebudowy\n\nCzęść 4 – Informacja w modelu BIM\n\nklasyfikacja i właściwości elementów\nwarianty graficzne – wizualizacja informacji\nwykorzystanie informacji z modelu w opisywaniu projektu\n\n  \n 
URL:https://wsc.pl/wydarzenia/archicad-szkolenie-zaawansowane-16-godzinne-4-dni-po-4-godziny/2025-12-09/
CATEGORIES:Archicad
ATTACH;FMTTYPE=image/jpeg:https://wsc.pl/wp-content/uploads/2025/11/4-5-8-9.12.2025-WSC-ARCHICAD-29-szkolenie-zaawansowane-Mikolaj-W_.jpg
ORGANIZER;CN="WSC":MAILTO:wsc@wsc.pl
END:VEVENT
BEGIN:VEVENT
DTSTART;TZID=Europe/Warsaw:20251210T090000
DTEND;TZID=Europe/Warsaw:20251210T103000
DTSTAMP:20260425T220903
CREATED:20251121T151808Z
LAST-MODIFIED:20251121T151808Z
UID:10000330-1765357200-1765362600@wsc.pl
SUMMARY:Archicad 29 - szkolenie aktualizacyjne
DESCRIPTION:Zapraszamy na szkolenie aktualizacyjne z najnowszej wersji Archicada 29.\nPodczas webinarium zaprezentujemy nowe funkcje programu ułatwiające codzienną pracę i poszerzające możliwości prezentacji projektów: \n\nZmiany i ulepszenia w zakresie interfejsu i ustawień programu.\nUlepszone narzędzia modelowania i edycji.\nNowe ustawienia widoków 3D i możliwości ich wykorzystania na arkuszach.\nRozszerzone funkcje konfiguracji zestawień. Ulepszenia w zakresie przygotowania dokumentacji.\nOmówimy również nowości w zakresie współpracy i projektowania branżowego takie jak wykorzystanie IFC4.3 i możliwości projektowania instalacji w MEP Designer.\nUlepszenia w Archicadzie 29 to okazja do szerszego przyjrzenia się wybranym zagadnieniom i zmianom na przestrzeni ostatnich wersji.\n\nSzkolenie prowadzone będzie w programie Archicad 29 POL.
URL:https://wsc.pl/wydarzenia/archicad-29-szkolenie-aktualizacyjne/
CATEGORIES:Archicad
ATTACH;FMTTYPE=image/jpeg:https://wsc.pl/wp-content/uploads/2025/11/10.12.2025-AC29-Szkolenie-aktualizacyjne-Pawel-P_.jpg
ORGANIZER;CN="WSC":MAILTO:wsc@wsc.pl
END:VEVENT
BEGIN:VEVENT
DTSTART;TZID=Europe/Warsaw:20251210T110000
DTEND;TZID=Europe/Warsaw:20251210T113000
DTSTAMP:20260425T220903
CREATED:20251120T103325Z
LAST-MODIFIED:20251124T134600Z
UID:10000308-1765364400-1765366200@wsc.pl
SUMMARY:Program Konwersji WSC: od licencji wieczystej do subskrypcji Archicada
DESCRIPTION:Ten webinar to dobra okazja\, aby uzyskać pełną wiedzę na temat najważniejszych zmian w sprzedaży Archicada oraz wsparciu i ofercie od WSC.\nUczestnicy dowiedzą się\, jak najlepiej wykorzystać Program Konwersji\, jakie decyzje podjąć w zakresie aktualizacji\, licencji wieczystych i subskrypcji\, a także jak zoptymalizować koszty w perspektywie nadchodzących zmian. To praktyczne wskazówki\, które pozwolą uniknąć utraty korzystnych warunków i zapewnią ciągłość pracy w najnowszych wersjach Archicada. \nPodczas spotkania:\n• poznasz zasady i korzyści Programu Konwersji WSC\,\n• dowiesz się\, jak wygląda proces od strony technicznej i organizacyjnej\,\n• uzyskasz odpowiedzi na wszystkie pytania dotyczące Twojej licencji. \nMasz pytania? To doskonała okazja\, aby porozmawiać bezpośrednio z ekspertem WSC\, który chętnie rozwieje wszelkie wątpliwości. \nW programie webinaru: \n\nProgram Konwersji WSC\n\nCzym jest Program Konwersji i dla kogo jest przeznaczony\nSzczegółowe warunki i możliwości przejścia\nNajczęstsze pytania klientów i praktyczne przykłady\n\n\nLicencje wieczyste i ich aktualizacje – jakie są terminy i co dalej się z nimi stanie?\nSubskrypcje Archicada – jakie mamy możliwości\nPodsumowanie i rekomendacje\nSesja pytań i odpowiedzi
URL:https://wsc.pl/wydarzenia/program-konwersji-wsc-od-licencji-wieczystej-do-subskrypcji-archicada-8/
CATEGORIES:Archicad
ATTACH;FMTTYPE=image/png:https://wsc.pl/wp-content/uploads/2025/11/program-konwersji-WSC_archicad.png
ORGANIZER;CN="WSC":MAILTO:wsc@wsc.pl
END:VEVENT
BEGIN:VEVENT
DTSTART;TZID=Europe/Warsaw:20251211T150000
DTEND;TZID=Europe/Warsaw:20251211T160000
DTSTAMP:20260425T220903
CREATED:20251124T071029Z
LAST-MODIFIED:20251124T071812Z
UID:10000332-1765465200-1765468800@wsc.pl
SUMMARY:Biblioteka Archiclub część 8 - Okna i Drzwi z biblioteki Narzędzia
DESCRIPTION:Okna i Drzwi w Narzędziach Archiclubu oraz standardowej bibliotece Archicada. Wszystkie zmiany w elementach\, które powodują\, że praca jest wielokrotnie wydajniejsza.\nW trakcie warsztatów wykonamy ćwiczenia praktyczne w najnowszej wersji Archicada 29 oraz najnowszą biblioteką Archiclubową: \n\nzapoznamy się ze sposobem działania biblioteki Narzędzi w najnowszym pliku Wzorca WSC do wersji Archicada 29\,\nsprawdzimy ogólne różnice pomiędzy biblioteką standardową a biblioteką Archiclubową\,\nprześledzimy parametry pozwalające korzystać ze zintegrowanych nadproży okiennych i drzwiowych\,\nsprawdzimy opcje dla nawiewników\,\nprzetestujemy sposoby ustawiania klamek dla skrzydeł oraz stron drzwi\,\nsprawdzimy jak obiekty zostały dostosowane do wymagań BIM-owych\,\nsprawdzimy różnice w działaniu dla Wnęki\,\nprzećwiczymy możliwości znaczników WSC oraz sprawdzimy sterowanie za pomocą Opcji reprezentacji modelu\,\nsprawdzimy jak wykonać prawdziwe wywinięcie warstw dla węgarków\,\nprzetestujemy automatyczne otworowanie przydatne przy projektach termomodernizacji\,\nwykonamy własne okno z użyciem trzech metod (zapis obiektu\, dodatkiem Library Part Maker\, dodatkiem Archiglazing)\n\nW trakcie warsztatów odpowiemy na wszelkie pytania związane z działaniem biblioteki oraz Wzorca jak i Profili środowiska pracy przygotowanych przez firmę WSC w ramach narzędzi Archiclub.
URL:https://wsc.pl/wydarzenia/biblioteka-archiclub-czesc-8-okna-i-drzwi-z-biblioteki-narzedzia/
CATEGORIES:Archicad
ATTACH;FMTTYPE=image/jpeg:https://wsc.pl/wp-content/uploads/2025/11/11.12.2025-WSC-ARCHICLUB-biblioteki-cz8-Rafal-S_.jpg
ORGANIZER;CN="WSC":MAILTO:wsc@wsc.pl
END:VEVENT
BEGIN:VEVENT
DTSTART;TZID=Europe/Warsaw:20251212T090000
DTEND;TZID=Europe/Warsaw:20251212T130000
DTSTAMP:20260425T220903
CREATED:20251120T105424Z
LAST-MODIFIED:20251120T105424Z
UID:10000321-1765530000-1765544400@wsc.pl
SUMMARY:Archicad BIM Manager – narzędzia i metody
DESCRIPTION:Archicad BIM to szkolenie dla zaawansowanych użytkowników Archicada chcących w pełni wykorzystać możliwości programu w procesie projektowania w technologii BIM.\nCelem szkolenia jest zapoznanie uczestników z kluczowymi zagadnieniami BIM związanymi z modelowaniem\, zarządzaniem informacją i koordynacją międzybranżową w programie Archicad.\nPo szkoleniu uczestnik będzie potrafił skutecznie zarzadzać modelem informacyjnym projektu w programie Archicad\, wykorzystać standard IFC do współpracy i koordynacji międzybranżowej oraz zapewnić wysoką jakość modeli i zgodność z wymaganiami.
URL:https://wsc.pl/wydarzenia/archicad-bim-manager-narzedzia-i-metody-4/2025-12-12/
CATEGORIES:Archicad,Solibri
ATTACH;FMTTYPE=image/png:https://wsc.pl/wp-content/uploads/2025/02/bimbase-archicad-bim-manager.png
ORGANIZER;CN="BIMbase":MAILTO:szkolenia@bimbase.pl
END:VEVENT
BEGIN:VEVENT
DTSTART;TZID=Europe/Warsaw:20251215T090000
DTEND;TZID=Europe/Warsaw:20251215T130000
DTSTAMP:20260425T220903
CREATED:20251120T105424Z
LAST-MODIFIED:20251120T105424Z
UID:10000322-1765789200-1765803600@wsc.pl
SUMMARY:Archicad BIM Manager – narzędzia i metody
DESCRIPTION:Archicad BIM to szkolenie dla zaawansowanych użytkowników Archicada chcących w pełni wykorzystać możliwości programu w procesie projektowania w technologii BIM.\nCelem szkolenia jest zapoznanie uczestników z kluczowymi zagadnieniami BIM związanymi z modelowaniem\, zarządzaniem informacją i koordynacją międzybranżową w programie Archicad.\nPo szkoleniu uczestnik będzie potrafił skutecznie zarzadzać modelem informacyjnym projektu w programie Archicad\, wykorzystać standard IFC do współpracy i koordynacji międzybranżowej oraz zapewnić wysoką jakość modeli i zgodność z wymaganiami.
URL:https://wsc.pl/wydarzenia/archicad-bim-manager-narzedzia-i-metody-4/2025-12-15/
CATEGORIES:Archicad,Solibri
ATTACH;FMTTYPE=image/png:https://wsc.pl/wp-content/uploads/2025/02/bimbase-archicad-bim-manager.png
ORGANIZER;CN="BIMbase":MAILTO:szkolenia@bimbase.pl
END:VEVENT
BEGIN:VEVENT
DTSTART;TZID=Europe/Warsaw:20251217T090000
DTEND;TZID=Europe/Warsaw:20251217T130000
DTSTAMP:20260425T220903
CREATED:20251120T105424Z
LAST-MODIFIED:20251120T105424Z
UID:10000323-1765962000-1765976400@wsc.pl
SUMMARY:Archicad BIM Manager – narzędzia i metody
DESCRIPTION:Archicad BIM to szkolenie dla zaawansowanych użytkowników Archicada chcących w pełni wykorzystać możliwości programu w procesie projektowania w technologii BIM.\nCelem szkolenia jest zapoznanie uczestników z kluczowymi zagadnieniami BIM związanymi z modelowaniem\, zarządzaniem informacją i koordynacją międzybranżową w programie Archicad.\nPo szkoleniu uczestnik będzie potrafił skutecznie zarzadzać modelem informacyjnym projektu w programie Archicad\, wykorzystać standard IFC do współpracy i koordynacji międzybranżowej oraz zapewnić wysoką jakość modeli i zgodność z wymaganiami.
URL:https://wsc.pl/wydarzenia/archicad-bim-manager-narzedzia-i-metody-4/2025-12-17/
CATEGORIES:Archicad,Solibri
ATTACH;FMTTYPE=image/png:https://wsc.pl/wp-content/uploads/2025/02/bimbase-archicad-bim-manager.png
ORGANIZER;CN="BIMbase":MAILTO:szkolenia@bimbase.pl
END:VEVENT
BEGIN:VEVENT
DTSTART;TZID=Europe/Warsaw:20251217T140000
DTEND;TZID=Europe/Warsaw:20251217T150000
DTSTAMP:20260425T220903
CREATED:20251121T152506Z
LAST-MODIFIED:20251203T125529Z
UID:10000331-1765980000-1765983600@wsc.pl
SUMMARY:Jak rozpocząć pracę z AI (wykład / prezentacja)
DESCRIPTION:Wielu architektów zadaje sobie pytanie: od czego zacząć? Odpowiedź jest prostsza\, niż myślisz\, ale wymaga zmiany podejścia.\nPodczas webinaru Maciek Szymanik (WSC) wyjaśni dlaczego kluczem do sukcesu jest traktowanie AI nie jako narzędzia a jak… partnera w zespole.\nO czym będziemy rozmawiać? \n\nZmiana myślenia: Dlaczego Sztuczną Inteligencję należy traktować jak partnera?\nSztuka komunikacji: Jak formułować polecenia (prompty)\, aby AI zrozumiało Twoją wizję.\nDopasowanie narzędzi: Zrozumienie\, że każdy model „myśli” inaczej.\nPlan na start: Jak zacząć korzystać z narzędzi AI do wykonywania różnych zadań?\n\nSpotkanie przeznaczone jest dla osób bez doświadczenia lub dopiero rozpoczynających korzystanie z rozwiązań AI.
URL:https://wsc.pl/wydarzenia/ja-rozpoczac-prace-z-ai-wyklad-prezentacja/
ATTACH;FMTTYPE=image/jpeg:https://wsc.pl/wp-content/uploads/2025/11/17.12.2025-AC29-AI-Maciek-Sz-1.jpg
ORGANIZER;CN="WSC":MAILTO:wsc@wsc.pl
END:VEVENT
BEGIN:VEVENT
DTSTART;TZID=Europe/Warsaw:20251218T140000
DTEND;TZID=Europe/Warsaw:20251218T143000
DTSTAMP:20260425T220903
CREATED:20251120T103711Z
LAST-MODIFIED:20251124T105306Z
UID:10000309-1766066400-1766068200@wsc.pl
SUMMARY:Program Konwersji WSC: od licencji wieczystej do subskrypcji Archicada
DESCRIPTION:Ten webinar to dobra okazja\, aby uzyskać pełną wiedzę na temat najważniejszych zmian w sprzedaży Archicada oraz wsparciu i ofercie od WSC.\nUczestnicy dowiedzą się\, jak najlepiej wykorzystać Program Konwersji\, jakie decyzje podjąć w zakresie aktualizacji\, licencji wieczystych i subskrypcji\, a także jak zoptymalizować koszty w perspektywie nadchodzących zmian. To praktyczne wskazówki\, które pozwolą uniknąć utraty korzystnych warunków i zapewnią ciągłość pracy w najnowszych wersjach Archicada. \nPodczas spotkania:\n• poznasz zasady i korzyści Programu Konwersji WSC\,\n• dowiesz się\, jak wygląda proces od strony technicznej i organizacyjnej\,\n• uzyskasz odpowiedzi na wszystkie pytania dotyczące Twojej licencji. \nMasz pytania? To doskonała okazja\, aby porozmawiać bezpośrednio z ekspertem WSC\, który chętnie rozwieje wszelkie wątpliwości. \nW programie webinaru: \n\nProgram Konwersji WSC\n\nCzym jest Program Konwersji i dla kogo jest przeznaczony\nSzczegółowe warunki i możliwości przejścia\nNajczęstsze pytania klientów i praktyczne przykłady\n\n\nLicencje wieczyste i ich aktualizacje – jakie są terminy i co dalej się z nimi stanie?\nSubskrypcje Archicada – jakie mamy możliwości\nPodsumowanie i rekomendacje\nSesja pytań i odpowiedzi
URL:https://wsc.pl/wydarzenia/program-konwersji-wsc-od-licencji-wieczystej-do-subskrypcji-archicada-9/
CATEGORIES:Archicad
ATTACH;FMTTYPE=image/png:https://wsc.pl/wp-content/uploads/2025/11/program-konwersji-WSC_archicad.png
ORGANIZER;CN="WSC":MAILTO:wsc@wsc.pl
END:VEVENT
BEGIN:VEVENT
DTSTART;TZID=Europe/Warsaw:20251219T090000
DTEND;TZID=Europe/Warsaw:20251219T130000
DTSTAMP:20260425T220903
CREATED:20251120T105424Z
LAST-MODIFIED:20251120T105424Z
UID:10000324-1766134800-1766149200@wsc.pl
SUMMARY:Archicad BIM Manager – narzędzia i metody
DESCRIPTION:Archicad BIM to szkolenie dla zaawansowanych użytkowników Archicada chcących w pełni wykorzystać możliwości programu w procesie projektowania w technologii BIM.\nCelem szkolenia jest zapoznanie uczestników z kluczowymi zagadnieniami BIM związanymi z modelowaniem\, zarządzaniem informacją i koordynacją międzybranżową w programie Archicad.\nPo szkoleniu uczestnik będzie potrafił skutecznie zarzadzać modelem informacyjnym projektu w programie Archicad\, wykorzystać standard IFC do współpracy i koordynacji międzybranżowej oraz zapewnić wysoką jakość modeli i zgodność z wymaganiami.
URL:https://wsc.pl/wydarzenia/archicad-bim-manager-narzedzia-i-metody-4/2025-12-19/
CATEGORIES:Archicad,Solibri
ATTACH;FMTTYPE=image/png:https://wsc.pl/wp-content/uploads/2025/02/bimbase-archicad-bim-manager.png
ORGANIZER;CN="BIMbase":MAILTO:szkolenia@bimbase.pl
END:VEVENT
END:VCALENDAR